BEGIN:VCALENDAR
VERSION:2.0
PRODID:-//ChamberMaster//Event Calendar 2.0//EN
METHOD:PUBLISH
X-PUBLISHED-TTL:P3D
REFRESH-INTERVAL:P3D
CALSCALE:GREGORIAN
BEGIN:VEVENT
DTSTART:20141213T193000Z
DTEND:20141213T213000Z
X-MICROSOFT-CDO-ALLDAYEVENT:FALSE
SUMMARY:2014 Downsizing and How to Handle Life's Transitions Seminar
DESCRIPTION:It can be overwhelming when you start thinking about how to simplify your life and begin preparing for the future. Join us for a discussion on how to:\n\n\n	Discover the advantages and disadvantages of downsizing\n	Downsize without burdening your family\n	Determine property value of home and assets\n	Discover the important medical and financial documents you need to consider completing\n	Planning for the emotional transition of downsizing\n	Making sure your healthcare fits your current or future needs\n\n\nGuest Speakers include:\n\n\n	Steve Money\, Attorney/Co-Host of Money Talk with KFAQ   Trusts\, Power of Attorneys & Advance Directives\n	Kim Coon\, Edward Jones Financial Advisor   Social Security\, Financial advice & other hot topics\n	Suzanne Rentz\, Keller Williams Realty   Downsizing strategies to get top dollar for your home\n	Michelle Reed\, 2 M Estate Sales   Downsizing with dignity and great ways to deal with the "stuff" in your home\n	Cindy Johnson\, Mutual of Omaha Representative - Preparing for Continuum of Care: Medicare and Long Term Care Insurance Solutions\n	Jim Griffin\, 2 Fellas Moving Company   Moving you loved ones treasures\n	Tammy Harvey\, Senior Living Specialist   Dealing with the cost and emotions of moving to Independent or Assisted Living
X-ALT-DESC;FMTTYPE=text/html:<span style="font-family:times new roman\,serif\;"><span style="font-size:12.0pt\;">It can be overwhelming when you start thinking about how to simplify your life and begin preparing for the future. Join us for a discussion on how to:</span></span>\n\n<ul>\n	<li style="margin-top:0in\;margin-right:22.5pt\;margin-bottom:10.0pt\;"><span style="font-family:times new roman\,serif\;"><span style="font-size:12.0pt\;">Discover the advantages and disadvantages of downsizing</span></span></li>\n	<li style="margin-top:0in\;margin-right:22.5pt\;margin-bottom:10.0pt\;"><span style="font-family:times new roman\,serif\;"><span style="font-size:12.0pt\;">Downsize without burdening your family</span></span></li>\n	<li style="margin-top:0in\;margin-right:22.5pt\;margin-bottom:10.0pt\;"><span style="font-family:times new roman\,serif\;"><span style="font-size:12.0pt\;">Determine property value of home and assets</span></span></li>\n	<li style="margin-top:0in\;margin-right:22.5pt\;margin-bottom:10.0pt\;"><span style="font-family:times new roman\,serif\;"><span style="font-size:12.0pt\;">Discover the important medical and financial documents you need to consider completing</span></span></li>\n	<li style="margin-top:0in\;margin-right:22.5pt\;margin-bottom:10.0pt\;"><span style="font-family:times new roman\,serif\;"><span style="font-size:12.0pt\;">Planning for the emotional transition of downsizing</span></span></li>\n	<li style="margin-top:0in\;margin-right:22.5pt\;margin-bottom:10.0pt\;"><span style="font-family:times new roman\,serif\;"><span style="font-size:12.0pt\;">Making sure your healthcare fits your current or future needs</span></span></li>\n</ul>\n\n<div style="margin-top:0in\;margin-right:22.5pt\;margin-bottom:10.0pt\;"><span style="font-family:cambria\,serif\;">Guest Speakers include:</span>\n\n<ul style="list-style-type:circle\;">\n	<li style="margin-top:0in\;margin-right:-1.5pt\;margin-bottom:0in\;margin-bottom:.0001pt\;"><span style="font-family:cambria\,serif\;">Steve Money\, Attorney/Co-Host of Money Talk with KFAQ &ndash\; Trusts\, Power of Attorneys &amp\; Advance Directives</span></li>\n	<li style="margin-top:0in\;margin-right:-1.5pt\;margin-bottom:0in\;margin-bottom:.0001pt\;"><span style="font-family:cambria\,serif\;">Kim Coon\, Edward Jones Financial Advisor &ndash\; Social Security\, Financial advice &amp\; other hot topics</span></li>\n	<li style="margin-top:0in\;margin-right:3.0pt\;margin-bottom:0in\;margin-bottom:.0001pt\;"><span style="font-family:cambria\,serif\;">Suzanne Rentz\, Keller Williams Realty &ndash\; Downsizing strategies to get top dollar for your home</span></li>\n	<li style="margin-top:0in\;margin-right:3.0pt\;margin-bottom:0in\;margin-bottom:.0001pt\;"><span style="font-family:cambria\,serif\;">Michelle Reed\, 2 M Estate Sales &ndash\; Downsizing with dignity and great ways to deal with the &ldquo\;stuff&rdquo\; in your home</span></li>\n	<li style="margin-top:0in\;margin-right:3.0pt\;margin-bottom:0in\;margin-bottom:.0001pt\;"><span style="font-family:cambria\,serif\;">Cindy Johnson\, Mutual of Omaha Representative - </span><span style="font-family:cambria\,serif\;">Preparing for Continuum of Care: Medicare and Long Term Care Insurance Solutions</span></li>\n	<li style="margin-top:0in\;margin-right:3.0pt\;margin-bottom:0in\;margin-bottom:.0001pt\;"><span style="font-family:cambria\,serif\;">Jim Griffin\, 2 Fellas Moving Company &ndash\; Moving you loved ones treasures</span></li>\n	<li style="margin-top:0in\;margin-right:3.0pt\;margin-bottom:0in\;margin-bottom:.0001pt\;"><span style="font-family:cambria\,serif\;">Tammy Harvey\, Senior Living Specialist &ndash\; Dealing with the cost and emotions of moving to Independent or Assisted Living</span></li>\n</ul>\n</div>\n
LOCATION:Forest Hills Assisted Living and Independent Living Community 4304 West Houston Broken Arrow (Located on 81st between Garnett and 129th)
UID:e.1611.1508
SEQUENCE:3
DTSTAMP:20260420T121559Z
URL:https://portal.bixbychamber.com/events/details/2014-downsizing-and-how-to-handle-life-s-transitions-seminar-12-13-2014-1508
END:VEVENT

END:VCALENDAR
