BEGIN:VCALENDAR
VERSION:2.0
PRODID:-//ChamberMaster//Event Calendar 2.0//EN
METHOD:PUBLISH
X-PUBLISHED-TTL:P3D
REFRESH-INTERVAL:P3D
CALSCALE:GREGORIAN
BEGIN:VEVENT
DTSTART:20140817T170000Z
DTEND:20140817T210000Z
X-MICROSOFT-CDO-ALLDAYEVENT:FALSE
SUMMARY:2014 Dog Days of Summer
DESCRIPTION:Open house\, end-of-summer party at River Trail Animal Hospital along with The Garden Trug and Zeller Photography. Tons of door prizes\, inflatable slides\, 200 free snow cones compliments of Josh's Sno Shack. Food Truck\, face painting\, dog training demonstration\, pet parade\, feathering and more!!
X-ALT-DESC;FMTTYPE=text/html:Open house\, end-of-summer party at River Trail Animal Hospital along with The Garden Trug and Zeller Photography. Tons of door prizes\, inflatable slides\, 200 free snow cones compliments of Josh&#39\;s Sno Shack. Food Truck\, face painting\, dog training demonstration\, pet parade\, feathering and more!!
LOCATION:101st and Riverside
UID:e.1611.1420
SEQUENCE:3
DTSTAMP:20260420T185247Z
URL:https://portal.bixbychamber.com/events/details/2014-dog-days-of-summer-08-17-2014-1420
END:VEVENT

END:VCALENDAR
