BEGIN:VCALENDAR
VERSION:2.0
PRODID:-//ChamberMaster//Event Calendar 2.0//EN
METHOD:PUBLISH
X-PUBLISHED-TTL:P3D
REFRESH-INTERVAL:P3D
CALSCALE:GREGORIAN
BEGIN:VEVENT
DTSTART:20141030T210000Z
DTEND:20141030T220000Z
X-MICROSOFT-CDO-ALLDAYEVENT:FALSE
SUMMARY:2014 Dedication of the Cherokee Boss Elk
DESCRIPTION:The Cherokee Boss Elk monument dedication is set for Thursday\, October 30\, 2014 at 4:00 pm at Washington Irving Memorial Park and Arboretum.  This is the 25th heroic and realistic wildlife bronze monument erected by NatureWorks\, Inc. but the first for Bixby.  The Friends of Irving Foundation\, Inc. will be hosting a reception after the dedication.
X-ALT-DESC;FMTTYPE=text/html:<span style="font-family:calibri\,sans-serif\;"><span style="font-size:14.0pt\;">The Cherokee Boss Elk monument dedication is set for Thursday\, October 30\, 2014 at 4:00 pm at Washington Irving Memorial Park and Arboretum.&nbsp\; This is the 25<sup>th</sup> heroic and realistic wildlife bronze monument erected by NatureWorks\, Inc. but the first for Bixby.&nbsp\; The Friends of Irving Foundation\, Inc. will be hosting a reception after the dedication.</span></span>
LOCATION:Washington Irving Memorial Park and Arboretum 13700 South Memorial Drive Bixby\, OK 74008
UID:e.1611.1455
SEQUENCE:3
DTSTAMP:20260420T144709Z
URL:https://portal.bixbychamber.com/events/details/2014-dedication-of-the-cherokee-boss-elk-10-30-2014-1455
END:VEVENT

END:VCALENDAR
