BEGIN:VCALENDAR
VERSION:2.0
PRODID:-//ChamberMaster//Event Calendar 2.0//EN
METHOD:PUBLISH
X-PUBLISHED-TTL:P3D
REFRESH-INTERVAL:P3D
CALSCALE:GREGORIAN
BEGIN:VEVENT
DTSTART:20141203T173000Z
DTEND:20141203T190000Z
X-MICROSOFT-CDO-ALLDAYEVENT:FALSE
SUMMARY:2014 December Business@Lunch
DESCRIPTION:The Bixby Metro Chamber Business@Lunch is an opportunity for Investment Partners to network and learn techniques to assist your business. The Business@Lunch series is continuing to grow with typically 150 plus business and community leaders in attendance. Anyone interested is invited to attend.\n\n\n\nHoliday\n\nBusiness@Lunch Schedule\n\n\n\n11:50 AM - Performance by Bixby Public Schools Cappella Choir\n\n12:00 PM - Large Economic Development Announcement\n\n12:10 PM - Business@Lunch Program Commences \n\nProgram: State of the District by Superintendent Dr. Kyle Wood
X-ALT-DESC;FMTTYPE=text/html:<span style="color: #808080"><span data-mce-style="color: #ffffff\;"><strong>T</strong></span><span data-mce-style="color: #888888\;">he </span></span><span data-mce-style="color: #888888\;" style="color: rgb(136\,136\,136)">Bixby Metro Chamber Business@Lunch is an opportunity for Investment Partners </span><span data-mce-style="color: #888888\;" style="color: rgb(136\,136\,136)">to network and learn techniques to assist your business. The Business@Lunch series </span><span data-mce-style="color: #888888\;" style="color: rgb(136\,136\,136)">is continuing to grow with typically 150 plus business and community leaders in attendance. Anyone interested is invited to attend.</span><br />\n<br />\n<em><span style="color:green\;"><span style="font-family:georgia\,serif\;"><span style="font-size:22.0pt\;">Holiday</span></span></span></em><br />\n<em><u><span style="color:#0070B6\;"><span style="font-family:georgia\,serif\;"><span style="font-size:22.0pt\;">Business@Lunch Schedule</span></span></span></u></em><br />\n<br />\n<strong><em><span style="color:#666666\;"><span style="font-family:georgia\,serif\;"><span style="font-size:14.0pt\;">11:50 AM</span></span></span></em></strong><em><span style="color:#666666\;"><span style="font-family:georgia\,serif\;"><span style="font-size:14.0pt\;"> - Performance by Bixby Public Schools Cappella Choir</span></span></span></em><br />\n<strong><em><span style="color:#666666\;"><span style="font-family:georgia\,serif\;"><span style="font-size:14.0pt\;"><span color="#666666" face="Georgia\, Times New Roman\, Times\, serif" size="4">12:00 PM</span></span></span></span></em></strong><em><span style="color:#666666\;"><span style="font-family:georgia\,serif\;"><span style="font-size:14.0pt\;"> - Large Economic&nbsp\;</span></span></span>Development<span color="#666666" face="Georgia\, Times New Roman\, Times\, serif" size="4">&nbsp\;Announcement</span></em><br />\n<strong><em><span style="color:#666666\;"><span style="font-family:georgia\,serif\;"><span style="font-size:14.0pt\;">12:10 PM</span></span></span></em></strong><em><span style="color:#666666\;"><span style="font-family:georgia\,serif\;"><span style="font-size:14.0pt\;"> - Business@Lunch Program Commences&nbsp\;</span></span></span></em><br />\n<em><span style="color:#666666\;"><span style="font-family:georgia\,serif\;"><span style="font-size:11.0pt\;">Program: State of the District by Superintendent Dr. Kyle Wood</span></span></span></em>
LOCATION:SpiritBank Event Center 10441 South Regal Boulevard Please park in the south parking garage.
UID:e.1611.1317
SEQUENCE:3
DTSTAMP:20260420T121501Z
URL:https://portal.bixbychamber.com/events/details/2014-december-business-lunch-12-03-2014-1317
END:VEVENT

END:VCALENDAR
