BEGIN:VCALENDAR
VERSION:2.0
PRODID:-//ChamberMaster//Event Calendar 2.0//EN
METHOD:PUBLISH
X-PUBLISHED-TTL:P3D
REFRESH-INTERVAL:P3D
CALSCALE:GREGORIAN
BEGIN:VEVENT
DTSTART:20141211T233000Z
DTEND:20141212T010000Z
X-MICROSOFT-CDO-ALLDAYEVENT:FALSE
SUMMARY:2014 December After Hours
DESCRIPTION:A very relaxed and casual networking event that gives the highlighted business a great opportunity to promote your products and services. Food and beverages will be provided.
X-ALT-DESC;FMTTYPE=text/html:A very relaxed and casual networking event that gives the highlighted&nbsp\;business a great opportunity to promote your products and services. Food and beverages will be&nbsp\;provided.&nbsp\;
LOCATION:BMW of Tulsa 9702 South Memorial Drive Tulsa\, OK 74133
UID:e.1611.1320
SEQUENCE:3
DTSTAMP:20260420T134123Z
URL:https://portal.bixbychamber.com/events/details/2014-december-after-hours-12-11-2014-1320
END:VEVENT

END:VCALENDAR
