BEGIN:VCALENDAR
VERSION:2.0
PRODID:-//ChamberMaster//Event Calendar 2.0//EN
METHOD:PUBLISH
X-PUBLISHED-TTL:P3D
REFRESH-INTERVAL:P3D
CALSCALE:GREGORIAN
BEGIN:VEVENT
DTSTART:20140108T141500Z
DTEND:20140108T150000Z
X-MICROSOFT-CDO-ALLDAYEVENT:FALSE
SUMMARY:2014 Creative Referral Network- Free Open Networking groups
DESCRIPTION:Creative Referral Network   Free Open Networking groups\n\nThe numbers are climbing!  Business is booming!  Leads are happening!
X-ALT-DESC;FMTTYPE=text/html:<strong><u><span style="font-family:times new roman\,serif\;"><span style="font-size:12.0pt\;">Creative Referral Network &ndash\; Free Open Networking groups</span></span></u></strong><br />\n<span style="font-family:times new roman\,serif\;"><span style="font-size:12.0pt\;">The numbers are climbing! &nbsp\;Business is booming! &nbsp\;Leads are happening!&nbsp\;</span></span>
LOCATION:Jimmy's Egg at 71st & Garnett
UID:e.1611.920
SEQUENCE:3
DTSTAMP:20260421T021701Z
URL:https://portal.bixbychamber.com/events/details/2014-creative-referral-network-free-open-networking-groups-01-08-2014-920
END:VEVENT

END:VCALENDAR
