BEGIN:VCALENDAR
VERSION:2.0
PRODID:-//ChamberMaster//Event Calendar 2.0//EN
METHOD:PUBLISH
X-PUBLISHED-TTL:P3D
REFRESH-INTERVAL:P3D
CALSCALE:GREGORIAN
BEGIN:VEVENT
DTSTART:20140605T200000Z
DTEND:20140605T220000Z
X-MICROSOFT-CDO-ALLDAYEVENT:FALSE
SUMMARY:2014 Covenant Place of Tulsa Retirement Community Groundbreaking Celebration
DESCRIPTION:Please join us for the Covenant Place of Tulsa Groundbreaking ceremony and reception on Thursday\, June 5\, 2014\, at 3 pm.  Groundbreaking will take place at the building site of 7300 East 121st Place\, South\, Bixby\, OK 74008.  Shuttle parking will be provided from LifeChurch at 7071 East 121st Street\, Bixby\, OK 74008 (just slightly to the west of the ceremony site).  A reception will be held at LifeChurch immediately following the Groundbreaking.  In case of inclement weather all festivities will be held at the LifeChurch location.
X-ALT-DESC;FMTTYPE=text/html:Please join us for the Covenant Place of Tulsa Groundbreaking ceremony and reception on Thursday\, June 5\, 2014\, at 3 pm.&nbsp\; Groundbreaking will take place at the building site of 7300 East 121st Place\, South\, Bixby\, OK 74008.&nbsp\; Shuttle parking will be provided from LifeChurch at 7071 East 121st Street\, Bixby\, OK 74008 (just slightly to the west of the ceremony site).&nbsp\; A reception will be held at LifeChurch immediately following the Groundbreaking.&nbsp\; In case of inclement weather all festivities will be held at the LifeChurch location.
LOCATION:7300 East 121st Place\, South\, Bixby\, OK 74008
UID:e.1611.1383
SEQUENCE:3
DTSTAMP:20260420T200919Z
URL:https://portal.bixbychamber.com/events/details/2014-covenant-place-of-tulsa-retirement-community-groundbreaking-celebration-06-05-2014-1383
END:VEVENT

END:VCALENDAR
