BEGIN:VCALENDAR
VERSION:2.0
PRODID:-//ChamberMaster//Event Calendar 2.0//EN
METHOD:PUBLISH
X-PUBLISHED-TTL:P3D
REFRESH-INTERVAL:P3D
CALSCALE:GREGORIAN
BEGIN:VEVENT
DTSTART:20140627T000000Z
DTEND:20140627T020000Z
X-MICROSOFT-CDO-ALLDAYEVENT:FALSE
SUMMARY:2014 Country Jammin' with Brenda Liles & Cripple Creek
DESCRIPTION:Please bring a covered dish to share at 6:30 PM
X-ALT-DESC;FMTTYPE=text/html:Please bring a covered dish to share at 6:30 PM&nbsp\; &nbsp\;
LOCATION:Bixby Community Center 211 North Cabannis Bixby\, OK 74008
UID:e.1611.1379
SEQUENCE:3
DTSTAMP:20260420T200919Z
URL:https://portal.bixbychamber.com/events/details/2014-country-jammin-with-brenda-liles-cripple-creek-06-26-2014-1379
END:VEVENT

END:VCALENDAR
