BEGIN:VCALENDAR
VERSION:2.0
PRODID:-//ChamberMaster//Event Calendar 2.0//EN
METHOD:PUBLISH
X-PUBLISHED-TTL:P3D
REFRESH-INTERVAL:P3D
CALSCALE:GREGORIAN
BEGIN:VEVENT
DTSTART:20140815T124500Z
DTEND:20140815T140000Z
X-MICROSOFT-CDO-ALLDAYEVENT:FALSE
SUMMARY:2014 Congressional Breakfast featuring Senator Jim Inhofe
DESCRIPTION:
X-ALT-DESC;FMTTYPE=text/html:
LOCATION:SpiritBank Event Center North Ballroom 10441 South Regal Boulevard Tulsa\, OK 74133
UID:e.1611.1328
SEQUENCE:3
DTSTAMP:20260420T172422Z
URL:https://portal.bixbychamber.com/events/details/2014-congressional-breakfast-featuring-senator-jim-inhofe-08-15-2014-1328
END:VEVENT

END:VCALENDAR
