BEGIN:VCALENDAR
VERSION:2.0
PRODID:-//ChamberMaster//Event Calendar 2.0//EN
METHOD:PUBLISH
X-PUBLISHED-TTL:P3D
REFRESH-INTERVAL:P3D
CALSCALE:GREGORIAN
BEGIN:VEVENT
DTSTART:20141011T150000Z
DTEND:20141011T190000Z
X-MICROSOFT-CDO-ALLDAYEVENT:FALSE
SUMMARY:2014 Community Appreciation with On the Cusp
DESCRIPTION:Food- Drinks- Music\n\nPony Rides and Petting Zoo\n\nBicycle Course\n\n\n\n12 Brand New Bicycles Will Be Given Away!\n\n\n\nMake sure to stop by and visit our other partners  Dr. Andrea Chiropractic and Barbee's Cookies!
X-ALT-DESC;FMTTYPE=text/html:Food- Drinks- Music<br />\nPony Rides and Petting Zoo<br />\nBicycle Course<br />\n<br />\n12 Brand New Bicycles Will Be Given Away!<br />\n<br />\nMake sure to stop by and visit our other partners&nbsp\;&#8203\;Dr. Andrea Chiropractic and Barbee&#39\;s Cookies!
LOCATION:Parking lot in front of Starworld Movie Theater behind On the Cusp
UID:e.1611.1440
SEQUENCE:3
DTSTAMP:20260420T160338Z
URL:https://portal.bixbychamber.com/events/details/2014-community-appreciation-with-on-the-cusp-10-11-2014-1440
END:VEVENT

END:VCALENDAR
