BEGIN:VCALENDAR
VERSION:2.0
PRODID:-//ChamberMaster//Event Calendar 2.0//EN
METHOD:PUBLISH
X-PUBLISHED-TTL:P3D
REFRESH-INTERVAL:P3D
CALSCALE:GREGORIAN
BEGIN:VEVENT
DTSTART:20140809T140000Z
DTEND:20140809T163000Z
X-MICROSOFT-CDO-ALLDAYEVENT:FALSE
SUMMARY:2014 Citizen CPR- FREE CPR class
DESCRIPTION:Save a Life Summer- FREE CPR class
X-ALT-DESC;FMTTYPE=text/html:Save a Life Summer- FREE CPR class
LOCATION:Bixby Community Center 211 Cabaniss Bixby\, OK 74008
UID:e.1611.1408
SEQUENCE:3
DTSTAMP:20260420T172122Z
URL:https://portal.bixbychamber.com/events/details/2014-citizen-cpr-free-cpr-class-08-09-2014-1408
END:VEVENT

END:VCALENDAR
