BEGIN:VCALENDAR
VERSION:2.0
PRODID:-//ChamberMaster//Event Calendar 2.0//EN
METHOD:PUBLISH
X-PUBLISHED-TTL:P3D
REFRESH-INTERVAL:P3D
CALSCALE:GREGORIAN
BEGIN:VEVENT
DTSTART:20141109T003000Z
DTEND:20141109T043000Z
X-MICROSOFT-CDO-ALLDAYEVENT:FALSE
SUMMARY:2014 Casino Night
DESCRIPTION:Join the Bixby Metro Chamber of Commerce for a "Casino Royale" themed evening as we pay tribute to everyone's favorite secret agent. Let Lady Luck be on your side as you try your hand at Las Vegas style gaming tables. Your ticket provides you with Casino Cash for use at the tables\, finger foods\, your favorite James Bond flick and silent auction.\n\n\n\nSponsorships\n\n\n\nSign Up for sponsorships online here by signing in or by emailing events@bixbychamber.com\n\n\n\nCasino Royale      $ 2\,000 (1 Available)\n\n  Prominent Recognition of logo on all PR/Marketing\n\n  Logo on all gaming tables\n\n  16 Event Tickets\n\n  32 Drink Tickets\n\n  VIP Parking for up to 8 cars\n\n  $1\,200.00 Casino Cash per person\n\n  Ad in event program\n\n \n\nThe World is Not Enough     $1\,000 (4 Available)\n\n  Logo on all PR/Marketing\n\n  Logo at gaming table\n\n  10 Event Tickets\n\n  20 Drink Tickets\n\n  VIP Parking for up to 5 cars\n\n  $1\,000.00 Casino Cash per person\n\n  Ad in event program\n\n \n\nLicense to Kill $ 600       (4 Available)\n\n  Company name on all PR/Marketing\n\n  Logo at gaming table\n\n  6 Event Tickets\n\n  12 Drink Tickets\n\n  $1\,000.00 Casino Cash per person\n\n  Logo in event program\n\n \n\nGoldfinger     $ 100 (12 Available)\n\n  2 Event Tickets\n\n  2 Drink Tickets\n\n  $500.00 Casino Cash per person\n\n  Name listed in program\n\n \n\nIndividual Ticket       $40 (50 Available)\n\n  Food and 1 drink ticket\n\n  $500.00 Casino Cash\n\nFood Ticket       $30 (20 Available)\n\n  Food and 1 drink ticket\n\nSilent Auction Sponsor\n\n  With the donation of an item valued at $100.00 or more\, you will receive an additional $500.00 casino cash.\n\n  Recognition in event program
X-ALT-DESC;FMTTYPE=text/html:<p><span style="font-size:12px\;"><span style="font-family:arial\;">Join the Bixby Metro Chamber of Commerce for a &quot\;Casino Royale&quot\; themed evening as we pay tribute to everyone&#39\;s favorite secret agent. <span style="color:black\;">Let Lady Luck be on your side as you try your hand at Las Vegas style gaming tables. Your ticket provides you with Casino Cash for use at the tables\, finger foods\, your favorite James Bond flick and silent auction.</span></span></span><br />\n<br />\n<strong style="line-height: 20.7999992370605px\;"><span style="font-size: 16px\;"><span style="font-family: arial\; line-height: 19.2000007629395px\;">Sponsorships</span></span></strong><br style="line-height: 20.7999992370605px\;" />\n<br style="line-height: 20.7999992370605px\;" />\n<span style="font-size: 12px\;"><span style="font-family: arial\;"><span style="font-weight: bold\;">Sign Up for sponsorships online here by signing in or by emailing&nbsp\;<a href="mailto:events@bixbychamber.com?subject=Casino%20Night">events@bixbychamber.com</a><br />\n<br />\nCasino Royale</span>&nbsp\;&nbsp\;&nbsp\;&nbsp\; &nbsp\;<span style="font-weight: bold\;">$ 2\,000 (1 Available)</span><br />\n<span style="direction: ltr\; unicode-bidi: embed\;"><span style="color: black\;">&middot\;</span></span>&nbsp\;Prominent Recognition of logo on all PR/Marketing<br />\n<span style="direction: ltr\; unicode-bidi: embed\;"><span style="color: black\;">&middot\;</span></span>&nbsp\;Logo on all gaming tables<br />\n<span style="direction: ltr\; unicode-bidi: embed\;"><span style="color: black\;">&middot\;</span></span>&nbsp\;16 Event Tickets<br />\n<span style="direction: ltr\; unicode-bidi: embed\;"><span style="color: black\;">&middot\;</span></span>&nbsp\;32 Drink Tickets<br />\n<span style="direction: ltr\; unicode-bidi: embed\;"><span style="color: black\;">&middot\;</span></span>&nbsp\;VIP Parking for up to 8 cars<br />\n<span style="direction: ltr\; unicode-bidi: embed\;"><span style="color: black\;">&middot\;</span></span>&nbsp\;$1\,200.00 Casino Cash per person<br />\n<span style="direction: ltr\; unicode-bidi: embed\;"><span style="color: black\;">&middot\;</span></span>&nbsp\;Ad in event program<br />\n&nbsp\;<br />\n<span style="font-weight: bold\;">The World is Not Enough &nbsp\; &nbsp\;&nbsp\;</span><span style="font-weight: bold\;">$1\,000 (4 Available)</span><br />\n<span style="direction: ltr\; unicode-bidi: embed\;"><span style="color: black\;">&middot\;</span></span>&nbsp\;Logo on all PR/Marketing<br />\n<span style="direction: ltr\; unicode-bidi: embed\;"><span style="color: black\;">&middot\;</span></span>&nbsp\;Logo at gaming table<br />\n<span style="direction: ltr\; unicode-bidi: embed\;"><span style="color: black\;">&middot\;</span></span>&nbsp\;10 Event Tickets<br />\n<span style="direction: ltr\; unicode-bidi: embed\;"><span style="color: black\;">&middot\;</span></span>&nbsp\;20 Drink Tickets<br />\n<span style="direction: ltr\; unicode-bidi: embed\;"><span style="color: black\;">&middot\;</span></span>&nbsp\;VIP Parking for up to 5 cars<br />\n<span style="direction: ltr\; unicode-bidi: embed\;"><span style="color: black\;">&middot\;</span></span>&nbsp\;$1\,000.00 Casino Cash per person<br />\n<span style="direction: ltr\; unicode-bidi: embed\;"><span style="color: black\;">&middot\;</span></span>&nbsp\;Ad in event program<br />\n&nbsp\;<br />\n<span style="font-weight: bold\;">License to Kill&nbsp\;</span><span style="font-weight: bold\;">$ 600 &nbsp\; &nbsp\; &nbsp\; (4 Available)</span><br />\n<span style="direction: ltr\; unicode-bidi: embed\;"><span style="color: black\;">&middot\;</span></span>&nbsp\;Company name on all PR/Marketing<br />\n<span style="direction: ltr\; unicode-bidi: embed\;"><span style="color: black\;">&middot\;</span></span>&nbsp\;Logo at gaming table<br />\n<span style="direction: ltr\; unicode-bidi: embed\;"><span style="color: black\;">&middot\;</span></span>&nbsp\;6 Event Tickets<br />\n<span style="direction: ltr\; unicode-bidi: embed\;"><span style="color: black\;">&middot\;</span></span>&nbsp\;12 Drink Tickets<br />\n<span style="direction: ltr\; unicode-bidi: embed\;"><span style="color: black\;">&middot\;</span></span>&nbsp\;$1\,000.00 Casino Cash per person<br />\n<span style="direction: ltr\; unicode-bidi: embed\;"><span style="color: black\;">&middot\;</span></span>&nbsp\;Logo in event program<br />\n&nbsp\;</span></span><br style="line-height: 20.7999992370605px\;" />\n<span style="font-size:12px\;"><span style="font-family:arial\;"><span style="font-weight: bold\;">Goldfinger&nbsp\; &nbsp\; &nbsp\;$ 100 (12 Available)</span><br />\n<span style="direction: ltr\; unicode-bidi: embed\;"><span style="color: black\;">&middot\;</span></span>&nbsp\;2 Event Tickets<br />\n<span style="direction: ltr\; unicode-bidi: embed\;"><span style="color: black\;">&middot\;</span></span>&nbsp\;2 Drink Tickets<br />\n<span style="direction: ltr\; unicode-bidi: embed\;"><span style="color: black\;">&middot\;</span></span>&nbsp\;$500.00 Casino Cash per person<br />\n<span style="direction: ltr\; unicode-bidi: embed\;"><span style="color: black\;">&middot\;</span></span>&nbsp\;Name listed in program<br />\n&nbsp\;<br />\n<span style="font-weight: bold\;">Individual Ticket&nbsp\;</span><span style="font-weight: bold\;">&nbsp\;&nbsp\;&nbsp\;&nbsp\;&nbsp\; $40 (50 Available)</span><br />\n<span style="direction: ltr\; unicode-bidi: embed\;"><span style="color: black\;">&middot\;</span></span>&nbsp\;Food and 1 drink ticket<br />\n<span style="direction: ltr\; unicode-bidi: embed\;"><span style="color: black\;">&middot\;</span></span>&nbsp\;$500.00 Casino Cash</span></span></p>\n\n<p><span style="font-family: arial\; font-size: 12px\; line-height: 19.2000007629395px\; font-weight: bold\;">Food Ticket&nbsp\;</span><span style="font-family: arial\; font-size: 12px\; line-height: 19.2000007629395px\; font-weight: bold\;">&nbsp\;&nbsp\;&nbsp\;&nbsp\;&nbsp\; $30 (20 Available)</span><br style="font-family: arial\; font-size: 12px\; line-height: 19.2000007629395px\;" />\n<span style="font-family: arial\; font-size: 12px\; line-height: 19.2000007629395px\; direction: ltr\; unicode-bidi: embed\;"><span style="color: black\;">&middot\;</span></span><span style="font-family: arial\; font-size: 12px\; line-height: 19.2000007629395px\;">&nbsp\;Food and 1 drink ticket</span></p>\n\n<p><span style="font-size:12px\;"><span style="font-family:arial\;"><span style="font-weight: bold\;">Silent Auction Sponsor</span><br />\n<span style="direction: ltr\; unicode-bidi: embed\;"><span style="color: black\;">&middot\;</span></span>&nbsp\;With the donation of an item valued at $100.00 or more\, you will receive an additional $500.00 casino cash.<br />\n<span style="direction: ltr\; unicode-bidi: embed\;"><span style="color: black\;">&middot\;</span></span>&nbsp\;Recognition in event program<br />\n&nbsp\;&#8203\;</span></span></p>\n
LOCATION:Stokely Event Center 10111 East 45th Place Tulsa\, OK 74136
UID:e.1611.1449
SEQUENCE:3
DTSTAMP:20260420T134153Z
URL:https://portal.bixbychamber.com/events/details/2014-casino-night-11-08-2014-1449
END:VEVENT

END:VCALENDAR
