BEGIN:VCALENDAR
VERSION:2.0
PRODID:-//ChamberMaster//Event Calendar 2.0//EN
METHOD:PUBLISH
X-PUBLISHED-TTL:P3D
REFRESH-INTERVAL:P3D
CALSCALE:GREGORIAN
BEGIN:VEVENT
DTSTART:20140416T210000Z
DTEND:20140417T000000Z
X-MICROSOFT-CDO-ALLDAYEVENT:FALSE
SUMMARY:2014 CARBON PILATES TO OPEN IN SOUTH TULSA
DESCRIPTION:Jodi Woodbridge\, Carbon Master Trainer and new franchise owner\, will open the first Carbon Pilates franchise in Tulsa with a ribbon cutting\, tour\, refreshments and workout April 16 from 4:00-7:30 p.m.\n\n \n\n"With the tremendous growth in South Tulsa\, we know it's the perfect time to introduce the Carbon Method\," said Woodbridge. "We look forward to bringing the same great workout in a supportive environment to current and new clients in South Tulsa. It is our desire to use Tulsa-based contractors and suppliers. We are strong supporters of keeping our dollars in Tulsa."\n\n \n\nWHO:\n\n\n	Carbon South owner\, clients and supporters\n\n\n\n	Carbon Franchise Group CEO and Carbon Method Creator\, Leah Bowles \n\n\n\n	Tulsa Metro Chamber of Commerce representatives \n\n \n\nWHAT: \n\n\n	Opening of Carbon's first franchise facility in South Tulsa\, bringing 6 new jobs to the area \n	Over $200\,000 invested in the local economy by employing local contractors\, suppliers and consultants\n\n\n\n	Ribbon cutting and Tour\n\n\n\n	Round-the-House Workout: 1-hour Carbon Method workout including Mat\, Tower\, Cardio Reformer & Spin
X-ALT-DESC;FMTTYPE=text/html:<span style="font-family:myriad pro\;"><span style="font-size:11.0pt\;">Jodi Woodbridge\, Carbon Master Trainer and new franchise owner\, will open the first Carbon Pilates franchise in Tulsa with a ribbon cutting\, tour\, refreshments and workout April 16 from 4:00-7:30 p.m.</span></span><br />\n&nbsp\;<br />\n<span style="font-family:myriad pro\;"><span style="font-size:11.0pt\;">&ldquo\;With the tremendous growth in South Tulsa\, we know it&rsquo\;s the perfect time to introduce the Carbon Method\,&rdquo\; said Woodbridge. &ldquo\;We look forward to bringing the same great workout in a supportive environment to current and new clients in South Tulsa. It is our desire to use Tulsa-based contractors and suppliers. We are strong supporters of keeping our dollars in Tulsa.&rdquo\;</span></span><br />\n&nbsp\;<br />\n<span style="font-family:myriad pro\;"><span style="font-size:14.0pt\;">WHO:</span></span>\n\n<ul>\n	<li><span style="font-family:myriad pro\;"><span style="font-size:11.0pt\;">Carbon South owner\, clients and supporters</span></span></li>\n</ul>\n\n<ul>\n	<li><span style="font-family:myriad pro\;"><span style="font-size:11.0pt\;">Carbon Franchise Group CEO and Carbon Method Creator\, Leah Bowles </span></span></li>\n</ul>\n\n<ul>\n	<li><span style="font-family:myriad pro\;"><span style="font-size:11.0pt\;">Tulsa Metro Chamber of Commerce representatives </span></span></li>\n</ul>\n&nbsp\;<br />\n<span style="font-family:myriad pro\;"><span style="font-size:14.0pt\;">WHAT: </span></span>\n\n<ul>\n	<li><span style="font-family:myriad pro\;"><span style="font-size:11.0pt\;">Opening of Carbon&rsquo\;s first franchise facility in South Tulsa\, bringing 6 new jobs to the area </span></span></li>\n	<li><span style="font-family:myriad pro\;"><span style="font-size:11.0pt\;">Over $200\,000 invested in the local economy by employing local contractors\, suppliers and consultants</span></span></li>\n</ul>\n\n<ul>\n	<li><span style="font-family:myriad pro\;"><span style="font-size:11.0pt\;">Ribbon cutting and Tour</span></span></li>\n</ul>\n\n<ul>\n	<li><span style="font-family:myriad pro\;"><span style="font-size:11.0pt\;">Round-the-House Workout: 1-hour Carbon Method workout including Mat\, Tower\, Cardio Reformer &amp\; Spin</span></span></li>\n</ul>\n
LOCATION:9118 S. Sheridan Road Tulsa\, Okla. 74133 918-477-7221
UID:e.1611.1365
SEQUENCE:3
DTSTAMP:20260420T225420Z
URL:https://portal.bixbychamber.com/events/details/2014-carbon-pilates-to-open-in-south-tulsa-04-16-2014-1365
END:VEVENT

END:VCALENDAR
