BEGIN:VCALENDAR
VERSION:2.0
PRODID:-//ChamberMaster//Event Calendar 2.0//EN
METHOD:PUBLISH
X-PUBLISHED-TTL:P3D
REFRESH-INTERVAL:P3D
CALSCALE:GREGORIAN
BEGIN:VEVENT
DTSTART:20140130T180000Z
DTEND:20140308T180000Z
X-MICROSOFT-CDO-ALLDAYEVENT:FALSE
SUMMARY:2014 Canceled: Antique Round-Up
DESCRIPTION:This has been Canceled!  Get your Tickets now for the Antique Round-up! March 8th 2014 10:30am Great Opportunity to bring your favorite antique item for appraisal by an experienced appraiser\, Mike Ratcliffe of Estates by Mike. Lunch is Included\, Tickets are $30 each Please do not bring precious gems\, firearms or knives.
X-ALT-DESC;FMTTYPE=text/html:This has been Canceled!&nbsp\; Get your Tickets now for the Antique Round-up! March 8th 2014 10:30am Great Opportunity to bring your favorite antique item for appraisal by an experienced appraiser\, Mike Ratcliffe of Estates by Mike. Lunch is Included\, Tickets are $30 each Please do not bring precious gems\, firearms or knives.
LOCATION:Fellowship Lutheran Church 6727 S. Sheridan Tulsa - Presented by Quota of South Tulsa
UID:e.1611.1331
SEQUENCE:3
DTSTAMP:20260421T011638Z
URL:https://portal.bixbychamber.com/events/details/2014-canceled-antique-round-up-01-30-2014-1331
END:VEVENT

END:VCALENDAR
