BEGIN:VCALENDAR
VERSION:2.0
PRODID:-//ChamberMaster//Event Calendar 2.0//EN
METHOD:PUBLISH
X-PUBLISHED-TTL:P3D
REFRESH-INTERVAL:P3D
CALSCALE:GREGORIAN
BEGIN:VEVENT
DTSTART:20141107T173000Z
DTEND:20141107T190000Z
X-MICROSOFT-CDO-ALLDAYEVENT:FALSE
SUMMARY:2014 BTC Chili Cook Off
DESCRIPTION:Join BTC at their 14th Annual "Bettering the Community" Chili Cook Off to raise funds for the United Way and Bixby Outreach Center.
X-ALT-DESC;FMTTYPE=text/html:Join BTC at their 14th Annual &quot\;Bettering the Community&quot\; Chili Cook Off to raise funds for the United Way and Bixby Outreach Center.
LOCATION:BTC Broadband Parking lot 111th and Memorial
UID:e.1611.1453
SEQUENCE:3
DTSTAMP:20260420T134244Z
URL:https://portal.bixbychamber.com/events/details/2014-btc-chili-cook-off-11-07-2014-1453
END:VEVENT

END:VCALENDAR
