BEGIN:VCALENDAR
VERSION:2.0
PRODID:-//ChamberMaster//Event Calendar 2.0//EN
METHOD:PUBLISH
X-PUBLISHED-TTL:P3D
REFRESH-INTERVAL:P3D
CALSCALE:GREGORIAN
BEGIN:VEVENT
DTSTART:20140215T150000Z
DTEND:20140216T010000Z
X-MICROSOFT-CDO-ALLDAYEVENT:FALSE
SUMMARY:2014 BMW Drive for Team USA
DESCRIPTION:Let the Games Begin.\n\n\n\nThe 2014 Olympic Winter Games are here. So to help support our team\, BMW is inviting you to participate in BMW Drive for Team USA. When you visit us and test drive one of our thrilling vehicles\, we'll make a donation to Team USA.\n\n\n\nIn addition\, you can get a credit of up to $500 during BMW Drive for Team USA. Hurry in by February 28 to take advantage of this offer and get behind a wheel of a new BMW.\n\n\n\nWe would like to invite you to this exclusive event on Saturday\, February 15th from 9:00 AM to 7:00 PM. Please call us at (877) 292-4398 for a reservation.
X-ALT-DESC;FMTTYPE=text/html:<span style="font-size:12px\;"><span style="font-family:arial\;">Let the Games Begin.<br />\n<br />\nThe 2014 Olympic Winter Games are here. So to help support our team\, BMW is inviting you to participate in BMW Drive for Team USA. When you visit us and test drive one of our thrilling vehicles\, we&#39\;ll make a donation to Team USA.<br />\n<br />\nIn addition\, you can get a credit of up to $500 during BMW Drive for Team USA. Hurry in by February 28 to take advantage of this offer and get behind&nbsp\;a wheel of a new BMW.<br />\n<br />\nWe would like to invite you to this exclusive event on Saturday\, February&nbsp\;15th from 9:00 AM to 7:00 PM. Please call us at (877) 292-4398 for a reservation.&nbsp\;</span></span>
LOCATION:BMW of Tulsa 9702 S Memorial Dr. Tulsa\, Ok. 74133
UID:e.1611.1332
SEQUENCE:3
DTSTAMP:20260421T013219Z
URL:https://portal.bixbychamber.com/events/details/2014-bmw-drive-for-team-usa-02-15-2014-1332
END:VEVENT

END:VCALENDAR
