BEGIN:VCALENDAR
VERSION:2.0
PRODID:-//ChamberMaster//Event Calendar 2.0//EN
METHOD:PUBLISH
X-PUBLISHED-TTL:P3D
REFRESH-INTERVAL:P3D
CALSCALE:GREGORIAN
BEGIN:VEVENT
DTSTART:20140424T224500Z
DTEND:20140425T000000Z
X-MICROSOFT-CDO-ALLDAYEVENT:FALSE
SUMMARY:2014 Bixby Walkshop
DESCRIPTION:Join the GO Plan team as we visit Bixby on April 24th with our "Walkshop" or\, walking workshop!\n\nLearn about regional bicycle and pedestrian planning\, participate in interactive web exercises and walk \n\nyour community to see what updates have been made or what improvements are still needed.
X-ALT-DESC;FMTTYPE=text/html:<span style="font-family:raleway\;"><span style="font-size:18.0pt\;">Join the GO Plan team as we visit Bixby on April 24th with our &ldquo\;Walkshop&rdquo\; or\, walking workshop!<br />\nLearn about regional bicycle and pedestrian planning\, participate in interactive web exercises and walk </span></span><br />\n<span style="font-family:raleway\;"><span style="font-size:18.0pt\;">your community to see what updates have been made or what improvements are still needed.</span></span>
LOCATION:Meet at the Daily YMCA 7910 East 134th Street South Bixby\, OK 74008
UID:e.1611.1366
SEQUENCE:3
DTSTAMP:20260421T000934Z
URL:https://portal.bixbychamber.com/events/details/2014-bixby-walkshop-04-24-2014-1366
END:VEVENT

END:VCALENDAR
