BEGIN:VCALENDAR
VERSION:2.0
PRODID:-//ChamberMaster//Event Calendar 2.0//EN
METHOD:PUBLISH
X-PUBLISHED-TTL:P3D
REFRESH-INTERVAL:P3D
CALSCALE:GREGORIAN
BEGIN:VEVENT
DTSTART;VALUE=DATE:20140210
DTEND;VALUE=DATE:20140213
TRANSP:TRANSPARENT
X-MICROSOFT-CDO-ALLDAYEVENT:TRUE
SUMMARY:2014 Bixby PTA lunch with Infuzion
DESCRIPTION:Please help spread the word. This isn't just a BIXBY school or parent event. Anyone that eats lunch can participate:)!!! \n\nSupport the Bixby PTA council by Enjoying a fabulous lunch at\n\nINFUZION 9999 South Mingo Tulsa\, OK 74133 (918)806-8400\n\nSelling tickets for February 10th - 12th Times available are 11:00 AM\, 12:00 PM or 1:00 PM\n\nSee any pta member for tickets or email: shonda.wagner@yahoo.com\n\nWe will also be featuring\n\n2013-2014 Bixby Participants of the PTA Reflections Art Project!!!! \n\nThe PTA will be delivering to the schools for 10 or more orders on Monday the 10th and Tuesday the 11th.  IF you'd like to purchase a lunch for please let myself Shonda.Wagner@Yahoo.com.  Thank you for your support and help!!!!\n\n \n\nThe Menu includes:\n\n \n\nHamburger or Cheeseburger with hand cut fries\n\nRuben with hand cut fries\n\nBBLT (double bacon) Sandwich with hand cut fries\n\nGrill chicken Salad\n\nGreen Salad and Soup (not sure of flavor)\n\n \n\nEach lunch is $20.  $10 covering the cost and $10 going directly to the PTA.
X-ALT-DESC;FMTTYPE=text/html:<span style="font-size:12px\;"><span style="font-family:arial\;"><span style="color:black\;">Please help spread the word. This isn&#39\;t just a BIXBY school or parent event. Anyone that eats lunch can participate:)!!!&nbsp\;</span><br />\n<span style="color:black\;">Support the Bixby PTA council by Enjoying a fabulous lunch at</span><br />\n<span style="color:black\;">INFUZION&nbsp\;</span><span style="color:black\;">9999 South Mingo Tulsa\, OK 74133 (918)806-8400</span><br />\n<span style="color:black\;">Selling tickets for February 10th - 12th&nbsp\;</span><span style="color:black\;">Times available are 11:00 AM\, 12:00 PM or 1:00 PM</span><br />\n<span style="color:black\;">See any pta member for tickets or email:&nbsp\;<a href="mailto:shonda.wagner@yahoo.com" target="_blank">shonda.wagner@yahoo.com</a></span><br />\n<span style="color:black\;">We will also be featuring<br />\n2013-2014 Bixby Participants of the PTA Reflections Art Project!!!!&nbsp\;</span><br />\n<span style="color:black\;">The PTA will be delivering to the schools for 10 or more orders on Monday the 10th and Tuesday the 11th. &nbsp\;IF you&#39\;d like to purchase a lunch for please let myself <a href="mailto:Shonda.Wagner@Yahoo.com" target="_blank">Shonda.Wagner@Yahoo.com</a>. &nbsp\;Thank you for your support and help!!!!</span><br />\n&nbsp\;<br />\n<span style="color:black\;">The Menu includes:</span><br />\n&nbsp\;<br />\n<span style="color:black\;">Hamburger or Cheeseburger with hand cut fries</span><br />\n<span style="color:black\;">Ruben with hand cut fries</span><br />\n<span style="color:black\;">BBLT (double bacon) Sandwich with hand cut fries</span><br />\n<span style="color:black\;">Grill chicken Salad</span><br />\n<span style="color:black\;">Green Salad and Soup (not sure of flavor)</span><br />\n&nbsp\;<br />\n<span style="color:black\;">Each lunch is $20. &nbsp\;$10 covering the cost and $10 going directly to the PTA.</span></span></span>
LOCATION:INFUZION 9999 South Mingo Tulsa\, OK 74133
UID:e.1611.1330
SEQUENCE:3
DTSTAMP:20260421T012119Z
URL:https://portal.bixbychamber.com/events/details/2014-bixby-pta-lunch-with-infuzion-02-10-2014-1330
END:VEVENT

END:VCALENDAR
