BEGIN:VCALENDAR
VERSION:2.0
PRODID:-//ChamberMaster//Event Calendar 2.0//EN
METHOD:PUBLISH
X-PUBLISHED-TTL:P3D
REFRESH-INTERVAL:P3D
CALSCALE:GREGORIAN
BEGIN:VEVENT
DTSTART:20140118T013500Z
DTEND:20140118T033000Z
X-MICROSOFT-CDO-ALLDAYEVENT:FALSE
SUMMARY:2014 Bixby Night with the Tulsa Oilers
DESCRIPTION:Come support the Bixby Community by wearing your blue and red!\n\n\n\nThe Tulsa Oilers will be giving special pricing.Click the link below to get the special prices or contact Rick East at 918-632-7825 or Rick@tulsaoilers.com.\n\n\n\nWWW.TULSAOILERS.COM/TICKETS/GROUPS/BIXBY-NIGHT/\n\n\n\nBooth sponsorships are available.
X-ALT-DESC;FMTTYPE=text/html:Come support the Bixby Community by wearing your blue and red!<br />\n<br />\nThe Tulsa Oilers will be giving special pricing.Click the link below to get the special prices or contact Rick East at 918-632-7825 or Rick@tulsaoilers.com.<br />\n<br />\n<a href="http://www.tulsaoilers.com/TICKETS/%20GROUPS/BIXBY-NIGHT">WWW.TULSAOILERS.COM/TICKETS/GROUPS/BIXBY-NIGHT/</a><br />\n<br />\nBooth sponsorships are available.
LOCATION:BOK Center 200 South Denver Avenue Tulsa\, OK 74103
UID:e.1611.1302
SEQUENCE:3
DTSTAMP:20260421T033920Z
URL:https://portal.bixbychamber.com/events/details/2014-bixby-night-with-the-tulsa-oilers-01-17-2014-1302
END:VEVENT

END:VCALENDAR
