BEGIN:VCALENDAR
VERSION:2.0
PRODID:-//ChamberMaster//Event Calendar 2.0//EN
METHOD:PUBLISH
X-PUBLISHED-TTL:P3D
REFRESH-INTERVAL:P3D
CALSCALE:GREGORIAN
BEGIN:VEVENT
DTSTART:20140627T180000Z
DTEND:20140627T220000Z
X-MICROSOFT-CDO-ALLDAYEVENT:FALSE
SUMMARY:2014 Bixby Green Corn Festival Talent Show
DESCRIPTION:Age Groups:\n\n6-10\, 11-13\, 14-18\n\nWinners in each group:\n\n1st Place- $100.00 gift card\n\n2nd Place- $75.00 gift card\n\n3rd Place- $50.00 gift card\n\n\n\nEntry deadline- June 27th \n\nPerformance limited to 3-5 minutes.
X-ALT-DESC;FMTTYPE=text/html:Age Groups:<br />\n6-10\, 11-13\, 14-18<br />\nWinners in each group:<br />\n1st&nbsp\;Place- $100.00 gift card<br />\n2nd Place- $75.00 gift card<br />\n3rd Place- $50.00 gift card<br />\n<br />\nEntry deadline- June 27th&nbsp\;<br />\nPerformance limited to 3-5 minutes.
LOCATION:Bixby Community Center 211 North Cabanis Bixby\, OK 74008
UID:e.1611.1377
SEQUENCE:3
DTSTAMP:20260420T201208Z
URL:https://portal.bixbychamber.com/events/details/2014-bixby-green-corn-festival-talent-show-06-27-2014-1377
END:VEVENT

END:VCALENDAR
