BEGIN:VCALENDAR
VERSION:2.0
PRODID:-//ChamberMaster//Event Calendar 2.0//EN
METHOD:PUBLISH
X-PUBLISHED-TTL:P3D
REFRESH-INTERVAL:P3D
CALSCALE:GREGORIAN
BEGIN:VEVENT
DTSTART;VALUE=DATE:20140626
DTEND;VALUE=DATE:20140629
TRANSP:TRANSPARENT
X-MICROSOFT-CDO-ALLDAYEVENT:TRUE
SUMMARY:2014 Bixby Green Corn Fesitval
DESCRIPTION:The Carnival will open at 5:00 on Thursday\, June 26th\, with $20 wristbands so bring out the kids and grandkids and enjoy the Green Corn Festival!
X-ALT-DESC;FMTTYPE=text/html:<span style="color:#1F497D\;">The Carnival will open at 5:00 on Thursday\, June 26<sup>th</sup>\, with $20 wristbands so bring out the kids and grandkids and enjoy the Green Corn Festival!</span><br />\n&nbsp\;
LOCATION:151st and Memorial area
UID:e.1611.1378
SEQUENCE:3
DTSTAMP:20260420T200703Z
URL:https://portal.bixbychamber.com/events/details/2014-bixby-green-corn-fesitval-06-26-2014-1378
END:VEVENT

END:VCALENDAR
