BEGIN:VCALENDAR
VERSION:2.0
PRODID:-//ChamberMaster//Event Calendar 2.0//EN
METHOD:PUBLISH
X-PUBLISHED-TTL:P3D
REFRESH-INTERVAL:P3D
CALSCALE:GREGORIAN
BEGIN:VEVENT
DTSTART:20140308T003000Z
DTEND:20140308T030000Z
X-MICROSOFT-CDO-ALLDAYEVENT:FALSE
SUMMARY:2014 Bixby FFA Pie and Labor Auction
DESCRIPTION:Free Chili Dinner at 6:30 PM\n\nSilent Auction from 6:30 PM- 7:00 PM\n\nLive Auction at 7:30 PM\n\n	Student Labor\n	Themed Baskets\n	FFA Student Fabrication Projects\n	Homemade Desserts\n\nAll Proceeds go to support the Bixby FFA
X-ALT-DESC;FMTTYPE=text/html:Free Chili Dinner at 6:30 PM<br />\nSilent Auction from 6:30 PM- 7:00 PM<br />\nLive Auction at 7:30 PM\n<ul>\n	<li>Student Labor</li>\n	<li>Themed Baskets</li>\n	<li>FFA Student Fabrication Projects</li>\n	<li>Homemade Desserts</li>\n</ul>\nAll Proceeds go to support the Bixby FFA
LOCATION:Bixby Ag. Building on Mingo Road between 151st and 161st
UID:e.1611.1334
SEQUENCE:3
DTSTAMP:20260421T000036Z
URL:https://portal.bixbychamber.com/events/details/2014-bixby-ffa-pie-and-labor-auction-03-07-2014-1334
END:VEVENT

END:VCALENDAR
