BEGIN:VCALENDAR
VERSION:2.0
PRODID:-//ChamberMaster//Event Calendar 2.0//EN
METHOD:PUBLISH
X-PUBLISHED-TTL:P3D
REFRESH-INTERVAL:P3D
CALSCALE:GREGORIAN
BEGIN:VEVENT
DTSTART:20140509T233000Z
DTEND:20140510T013000Z
X-MICROSOFT-CDO-ALLDAYEVENT:FALSE
SUMMARY:2014 Bixby Chamber Night at ORU Baseball
DESCRIPTION:Friday\, May 9 at 6:30pm at J.L. Johnson Stadium\n\nBixby Metro Chamber of Commerce Members and Bixby community members are invited to a night of fun and baseball at J.L. Johnson Stadium as the ORU Golden Eagles take on Abilene Christian!
X-ALT-DESC;FMTTYPE=text/html:<span style="font-family:arial\;"><strong><span style="font-size:22.0pt\;">Friday\, May 9 at 6:30pm at J.L. Johnson Stadium</span></strong><br />\n<span style="font-size:16.0pt\;">Bixby Metro Chamber of Commerce Members and Bixby community members are invited to a night of fun and baseball at J.L. Johnson Stadium as the ORU Golden Eagles take on Abilene Christian!&nbsp\;</span></span>
LOCATION:
UID:e.1611.1354
SEQUENCE:3
DTSTAMP:20260420T213939Z
URL:https://portal.bixbychamber.com/events/details/2014-bixby-chamber-night-at-oru-baseball-05-09-2014-1354
END:VEVENT

END:VCALENDAR
