BEGIN:VCALENDAR
VERSION:2.0
PRODID:-//ChamberMaster//Event Calendar 2.0//EN
METHOD:PUBLISH
X-PUBLISHED-TTL:P3D
REFRESH-INTERVAL:P3D
CALSCALE:GREGORIAN
BEGIN:VEVENT
DTSTART:20140626T233000Z
DTEND:20140627T013000Z
X-MICROSOFT-CDO-ALLDAYEVENT:FALSE
SUMMARY:2014 Bio-Identical Hormone Replacement Seminar
DESCRIPTION:An informative seminar presented by Economy Pharmacy to answer questions you may have about the benefits of hormone replacement. This will be a comprehensive discussion by Chris Schiller\, PharmD.
X-ALT-DESC;FMTTYPE=text/html:An informative seminar presented by Economy Pharmacy to answer questions you may have about the benefits of hormone replacement. This will be a comprehensive discussion by Chris Schiller\, PharmD.
LOCATION:Premier Family Care (81st and Lewis next to Oklahoma Surgical Hospital) Tulsa\, Ok
UID:e.1611.1392
SEQUENCE:3
DTSTAMP:20260420T200544Z
URL:https://portal.bixbychamber.com/events/details/2014-bio-identical-hormone-replacement-seminar-06-26-2014-1392
END:VEVENT

END:VCALENDAR
