BEGIN:VCALENDAR
VERSION:2.0
PRODID:-//ChamberMaster//Event Calendar 2.0//EN
METHOD:PUBLISH
X-PUBLISHED-TTL:P3D
REFRESH-INTERVAL:P3D
CALSCALE:GREGORIAN
BEGIN:VEVENT
DTSTART:20140815T163000Z
DTEND:20140815T180000Z
X-MICROSOFT-CDO-ALLDAYEVENT:FALSE
SUMMARY:2014 August Learn Over Lunch
DESCRIPTION:Learn Over Lunch educational program\, partners will mentor other partners on important business skills including personal and professional development\, educational growth and the latest trends and technology. Join us for lunch and take some time out of your day to learn from an expert.\n\n \nCostly Overlooked Business Tax Strategies\n\nUse Now or Pay Later\n\nOften times\, entrepreneurial business owners feel trapped\, helpless and defeated when it comes to taxes.  They feel like they pay too much and have no sense of control.  Jeff will explain several different overlooked business tax strategies - many of which will give the entrepreneurial business owner a sense of empowerment and opportunity for significant savings.
X-ALT-DESC;FMTTYPE=text/html:<em><em>Learn Over Lunch educational program\, partners will mentor other partners on important business skills including personal and professional development\, educational growth and the latest trends and technology. Join us for lunch and take some time out of your day to learn from an expert</em>.</em><br />\n&nbsp\;\n<p style="margin:0in\;margin-bottom:.0001pt"><span style="font-size:16.0pt\;\nfont-family:&quot\;Arial&quot\;\,&quot\;sans-serif&quot\;\;color:#0070B6">Costly Overlooked Business Tax Strategies<o:p></o:p></span></p>\n\n<p style="margin:0in\;margin-bottom:.0001pt"><span face="Arial\, sans-serif"><em><span style="font-family:&quot\;Arial&quot\;\,&quot\;sans-serif&quot\;\;color:#0070B6">Use Now or Pay Later</span></em></span><span style="font-family:&quot\;Arial&quot\;\,&quot\;sans-serif&quot\;\;color:#0070B6"><o:p></o:p></span></p>\n\n<p style="margin:0in\;margin-bottom:.0001pt"><span style="font-size:9.0pt\;\nfont-family:&quot\;Arial&quot\;\,&quot\;sans-serif&quot\;\;color:black">Often times\, entrepreneurial business owners feel trapped\, helpless and defeated when it comes to taxes.&nbsp\; They feel like they pay too much and have no sense of control.&nbsp\; Jeff will explain several different overlooked business tax strategies - many of which will give the entrepreneurial business owner a sense of empowerment and opportunity for significant savings.&nbsp\;<o:p></o:p></span></p>\n
LOCATION:Bixby Metro Chamber Board Room
UID:e.1611.1295
SEQUENCE:3
DTSTAMP:20260420T184006Z
URL:https://portal.bixbychamber.com/events/details/2014-august-learn-over-lunch-08-15-2014-1295
END:VEVENT

END:VCALENDAR
