BEGIN:VCALENDAR
VERSION:2.0
PRODID:-//ChamberMaster//Event Calendar 2.0//EN
METHOD:PUBLISH
X-PUBLISHED-TTL:P3D
REFRESH-INTERVAL:P3D
CALSCALE:GREGORIAN
BEGIN:VEVENT
DTSTART:20140716T220000Z
DTEND:20140716T230000Z
X-MICROSOFT-CDO-ALLDAYEVENT:FALSE
SUMMARY:2014 Attorney General Scott Pruitt to Host Town Hall Meeting
DESCRIPTION:The Obama administration has unlawfully and unilaterally changed the Affordable Care Act nearly two dozen times. The Attorney General will update the audience on Oklahoma's important lawsuit to challenge the administration?s unlawful attempt to alter and implement the ACA and other examples of federal overreach. The Attorney General will take questions from the audience. ?My office is leading the fight to preserve the rule of law and protect Oklahoma from the overbearing policies of Washington. At this meeting\, I'll be discussing several key issues including our Affordable Care Act lawsuit and our challenges to the EPA overreach. I encourage Oklahomans to attend this meeting so they can hear about the work of the AG's Office and share with me their thoughts on these important issues.?  ? Attorney General Scott Pruitt
X-ALT-DESC;FMTTYPE=text/html:The Obama administration has unlawfully and unilaterally changed the Affordable Care Act nearly two dozen times. The Attorney General will update the audience on Oklahoma&#39\;s important lawsuit to challenge the administration?s unlawful attempt to alter and implement the ACA and other examples of federal overreach. The Attorney General will take questions from the audience. ?My office is leading the fight to preserve the rule of law and protect Oklahoma from the overbearing policies of Washington. At this meeting\, I&#39\;ll be discussing several key issues including our Affordable Care Act lawsuit and our challenges to the EPA overreach. I encourage Oklahomans to attend this meeting so they can hear about the work of the AG&#39\;s Office and share with me their thoughts on these important issues.?&nbsp\; ? Attorney General Scott Pruitt&nbsp\;
LOCATION:Bixby Public Library 20 E Breckenridge Ave\, Bixby\, OK 74008
UID:e.1611.1404
SEQUENCE:3
DTSTAMP:20260420T184439Z
URL:https://portal.bixbychamber.com/events/details/2014-attorney-general-scott-pruitt-to-host-town-hall-meeting-07-16-2014-1404
END:VEVENT

END:VCALENDAR
