BEGIN:VCALENDAR
VERSION:2.0
PRODID:-//ChamberMaster//Event Calendar 2.0//EN
METHOD:PUBLISH
X-PUBLISHED-TTL:P3D
REFRESH-INTERVAL:P3D
CALSCALE:GREGORIAN
BEGIN:VEVENT
DTSTART:20140411T163000Z
DTEND:20140411T180000Z
X-MICROSOFT-CDO-ALLDAYEVENT:FALSE
SUMMARY:2014 April Learn Over Lunch
DESCRIPTION:Learn Over Lunch educational program\, partners will mentor other partners on important business skills including personal and professional development\, educational growth and the latest trends and technology. Join us for lunch and take some time out of your day to learn from an expert.\n\n\n\n"Three Questions Followers Ask Leaders"  \n\n \n\nIf you are a true leader you understand it should never be lonely at the top and on of the basic strengths of a leader is to understand the basic questions their staff are asking of them.  Understanding these three questions will enable any leader to have better conversations with staff\, reduce conflict and improve trust.
X-ALT-DESC;FMTTYPE=text/html:<em><em>Learn Over Lunch educational program\, partners will mentor other partners on important business skills including personal and professional development\, educational growth and the latest trends and technology. Join us for lunch and take some time out of your day to learn from an expert</em>.</em><br />\n<br />\n<span style="font-family:calibri\,sans-serif\;">&ldquo\;Three Questions Followers Ask Leaders&rdquo\;&nbsp\; </span><br />\n&nbsp\;<br />\n<span style="font-family:calibri\,sans-serif\;">If you are a true leader you understand it should never be lonely at the top and on of the basic strengths of a leader is to understand the basic questions their staff are asking of them.&nbsp\; Understanding these three questions will enable any leader to have better conversations with staff\, reduce conflict and improve trust. &nbsp\;</span><br />\n&nbsp\;
LOCATION:Chamber Board Room
UID:e.1611.1272
SEQUENCE:3
DTSTAMP:20260420T224910Z
URL:https://portal.bixbychamber.com/events/details/2014-april-learn-over-lunch-04-11-2014-1272
END:VEVENT

END:VCALENDAR
