BEGIN:VCALENDAR
VERSION:2.0
PRODID:-//ChamberMaster//Event Calendar 2.0//EN
METHOD:PUBLISH
X-PUBLISHED-TTL:P3D
REFRESH-INTERVAL:P3D
CALSCALE:GREGORIAN
BEGIN:VEVENT
DTSTART:20140408T160000Z
DTEND:20140408T180000Z
X-MICROSOFT-CDO-ALLDAYEVENT:FALSE
SUMMARY:2014 April Discover Bixby
DESCRIPTION:Join the Mayor of Bixby as you travel through Bixby. Learn about upcoming developments as well as the current location of our school systems\, Kimberly Clark and some of our largest employers. The Bixby Historical Society will share the history of Bixby as as well as point out historical landmarks and buildings.\n\n\n\nGeared for New Partners to the Chamber and our community\, but open to anyone interested in finding out new and upcoming developments.
X-ALT-DESC;FMTTYPE=text/html:Join the Mayor of Bixby as you travel through Bixby. Learn about upcoming developments&nbsp\;as well as the current location of our school systems\, Kimberly Clark and some of our largest employers. The Bixby Historical Society will share the history of Bixby as as well as point out historical landmarks and buildings.<br />\n<br />\nGeared for New Partners to the Chamber and our community\, but open to anyone interested in finding out new and upcoming developments.&nbsp\;
LOCATION:
UID:e.1611.1327
SEQUENCE:3
DTSTAMP:20260420T225031Z
URL:https://portal.bixbychamber.com/events/details/2014-april-discover-bixby-04-08-2014-1327
END:VEVENT

END:VCALENDAR
