BEGIN:VCALENDAR
VERSION:2.0
PRODID:-//ChamberMaster//Event Calendar 2.0//EN
METHOD:PUBLISH
X-PUBLISHED-TTL:P3D
REFRESH-INTERVAL:P3D
CALSCALE:GREGORIAN
BEGIN:VEVENT
DTSTART:20140417T223000Z
DTEND:20140418T000000Z
X-MICROSOFT-CDO-ALLDAYEVENT:FALSE
SUMMARY:2014 April After Hours
DESCRIPTION:A very relaxed and casual networking event that gives the highlighted business a great opportunity to promote your products and services. Food and beverages will be provided.
X-ALT-DESC;FMTTYPE=text/html:A very relaxed and casual networking event that gives the highlighted&nbsp\;business a great opportunity to promote your products and services. Food and beverages will be&nbsp\;provided.&nbsp\;
LOCATION:On the Cusp Pediatric Dentistry 8222 East 103rd Street Suite 133 Tulsa\, OK 74133
UID:e.1611.1274
SEQUENCE:3
DTSTAMP:20260420T224953Z
URL:https://portal.bixbychamber.com/events/details/2014-april-after-hours-04-17-2014-1274
END:VEVENT

END:VCALENDAR
