BEGIN:VCALENDAR
VERSION:2.0
PRODID:-//ChamberMaster//Event Calendar 2.0//EN
METHOD:PUBLISH
X-PUBLISHED-TTL:P3D
REFRESH-INTERVAL:P3D
CALSCALE:GREGORIAN
BEGIN:VEVENT
DTSTART:20140712T170000Z
DTEND:20140712T210000Z
X-MICROSOFT-CDO-ALLDAYEVENT:FALSE
SUMMARY:2014 Apollo's Martial Arts Grand Opening
DESCRIPTION:Come by and see Apollo's Martial Arts new location. We will have fun for the kids\, free give aways\, and FREE "on the spot" introductory private lessons. Please stop by and welcome us to the community.
X-ALT-DESC;FMTTYPE=text/html:Come by and see Apollo&#39\;s Martial Arts new location. We will have fun for the kids\, free give aways\, and FREE &quot\;on the spot&quot\; introductory private lessons. Please stop by and welcome us to the community.
LOCATION:13406 S. Memorial Dr. Bixby OK 74008
UID:e.1611.1401
SEQUENCE:3
DTSTAMP:20260420T184412Z
URL:https://portal.bixbychamber.com/events/details/2014-apollo-s-martial-arts-grand-opening-07-12-2014-1401
END:VEVENT

END:VCALENDAR
