BEGIN:VCALENDAR
VERSION:2.0
PRODID:-//ChamberMaster//Event Calendar 2.0//EN
METHOD:PUBLISH
X-PUBLISHED-TTL:P3D
REFRESH-INTERVAL:P3D
CALSCALE:GREGORIAN
BEGIN:VEVENT
DTSTART:20141206T150000Z
DTEND:20141206T220000Z
X-MICROSOFT-CDO-ALLDAYEVENT:FALSE
SUMMARY:2014 Annual Holiday Arts and Crafts Show
DESCRIPTION:Annual Holiday Arts and Crafts show with 70 vendors and a variety of items for last minute holiday shopping
X-ALT-DESC;FMTTYPE=text/html:Annual Holiday Arts and Crafts show with 70 vendors and a variety of items for last minute holiday shopping
LOCATION:Bixby Community Center 211 North Cabaniss Bixby\, OK 74008
UID:e.1611.1470
SEQUENCE:3
DTSTAMP:20260420T121949Z
URL:https://portal.bixbychamber.com/events/details/2014-annual-holiday-arts-and-crafts-show-12-06-2014-1470
END:VEVENT

END:VCALENDAR
