BEGIN:VCALENDAR
VERSION:2.0
PRODID:-//ChamberMaster//Event Calendar 2.0//EN
METHOD:PUBLISH
X-PUBLISHED-TTL:P3D
REFRESH-INTERVAL:P3D
CALSCALE:GREGORIAN
BEGIN:VEVENT
DTSTART:20141029T160000Z
DTEND:20141029T180000Z
X-MICROSOFT-CDO-ALLDAYEVENT:FALSE
SUMMARY:2014 Achieving Greatness is Within Reach with Don Yaeger
DESCRIPTION:Don Yaeger knows what it takes to be successful. Fortunately for you\, Premier Consulting Partners is bring him to Tulsa for one incredible event. Don is a long-time associate editor for Sports Illustrated. He uses sports metaphors and real-life stories from some of the all-time greatest athletes and applies those experiences to tell audiences what it really takes to achieve greatness. This eight-time New York Times Best- Selling author has coached countless executives and sales organizations on how to achieve goals and grow business. In addition\, Don has served as a media trainer for athletes\, business leaders and elected officials.
X-ALT-DESC;FMTTYPE=text/html:<span style="font-size:12px\;"><span style="font-family:arial\;">Don Yaeger knows what it takes to be successful. Fortunately for you\, Premier Consulting Partners is bring him to Tulsa for one incredible event. Don is a long-time associate editor for Sports Illustrated. He uses sports metaphors and real-life stories from some of the all-time greatest athletes and applies those experiences to tell audiences what it really takes to achieve greatness. This eight-time New York Times Best- Selling author has coached countless executives and sales organizations on how to achieve goals and grow business. In addition\, Don has served as a media trainer for athletes\, business leaders and elected officials.&nbsp\;</span></span>
LOCATION:Luncheon and Presentation SpiritBank Event Center 10441 South Regal Blvd.\, Tulsa\, OK 74133
UID:e.1611.1460
SEQUENCE:3
DTSTAMP:20260420T144639Z
URL:https://portal.bixbychamber.com/events/details/2014-achieving-greatness-is-within-reach-with-don-yaeger-10-29-2014-1460
END:VEVENT

END:VCALENDAR
