BEGIN:VCALENDAR
VERSION:2.0
PRODID:-//ChamberMaster//Event Calendar 2.0//EN
METHOD:PUBLISH
X-PUBLISHED-TTL:P3D
REFRESH-INTERVAL:P3D
CALSCALE:GREGORIAN
BEGIN:VEVENT
DTSTART:20140920T150000Z
DTEND:20140920T190000Z
X-MICROSOFT-CDO-ALLDAYEVENT:FALSE
SUMMARY:2014 A Gathering Place for Tulsa
DESCRIPTION:Food Trucks\, Kids and Family Activities\, Live Music\n\n\n\nWear you picnic attire\, walk the grounds with family and friends and imagine the future that awaits Tulsa. Children will have the opportunity to participate in the noon groundbreaking ceremony!
X-ALT-DESC;FMTTYPE=text/html:Food Trucks\, Kids and Family Activities\, Live Music<br />\n<br />\nWear you picnic attire\, walk the grounds with family and friends and imagine the future that awaits Tulsa. Children will have the opportunity to participate in the noon groundbreaking ceremony!
LOCATION:Public Parking will be marked and available between Elgin and Boulder Ave. from 8th to 13th Street. Nonstop shuttles will escort guests from paring areas to the groundbreaking celebration site at the following locations: 11th and Cincinnati/ 9th and Main Street/ 12th and Boston Avenue
UID:e.1611.1425
SEQUENCE:3
DTSTAMP:20260420T172319Z
URL:https://portal.bixbychamber.com/events/details/2014-a-gathering-place-for-tulsa-09-20-2014-1425
END:VEVENT

END:VCALENDAR
