BEGIN:VCALENDAR
VERSION:2.0
PRODID:-//ChamberMaster//Event Calendar 2.0//EN
METHOD:PUBLISH
X-PUBLISHED-TTL:P3D
REFRESH-INTERVAL:P3D
CALSCALE:GREGORIAN
BEGIN:VEVENT
DTSTART:20140513T000000Z
DTEND:20140513T013000Z
X-MICROSOFT-CDO-ALLDAYEVENT:FALSE
SUMMARY:2014 A Concert in the Park
DESCRIPTION:Bixby High School Band \n\nBack by popular demand\, this year's concert is free to the Bixby Community as a token of thanks for their continued support. Come and celebrate another great year with the band.\n\nFOOD DRIVE: US Cellular representatives will be collecting donations of food for children at home during the summer for the Bixby Outreach Center. Providing healthy meals can be difficult for many of our Bixby neighbors\, please bring non-perishable foods that are easy for children to prepare on their own. Suggestions: peanut butter\, jelly\, easy-mac\, ravioli\, cereals\, single-serve fruit cups and fruit snacks.\n\n  Parking: Please park only in designated spots\, overflow parking is available in the sod farm.\n\n  Please bring chairs or blankets for seating.\n\n  Snow cones will be available to purchase (a portion of the proceeds will go directly to the band).\n\n  In the event of rain\, the concert will be held at the BHS Auditorium.
X-ALT-DESC;FMTTYPE=text/html:Bixby High School Band&nbsp\;<br />\nBack by popular demand\, this year&#39\;s concert is free to the Bixby Community as a token of thanks for their continued support. Come and celebrate another great year with the band.<br />\nFOOD DRIVE: US Cellular representatives will be collecting donations of food for children at home during the summer for the Bixby Outreach Center. Providing healthy meals can be difficult for many of our Bixby neighbors\, please bring non-perishable foods that are easy for children to prepare on their own. Suggestions: peanut butter\, jelly\, easy-mac\, ravioli\, cereals\, single-serve fruit cups and fruit snacks.<br />\n&#61656\; Parking: Please park only in designated spots\, overflow parking is available in the sod farm.<br />\n&#61656\; Please bring chairs or blankets for seating.<br />\n&#61656\; Snow cones will be available to purchase (a portion of the proceeds will go directly to the band).<br />\n&#61656\; In the event of rain\, the concert will be held at the BHS Auditorium.
LOCATION:Washington Irving Park
UID:e.1611.1374
SEQUENCE:3
DTSTAMP:20260420T213938Z
URL:https://portal.bixbychamber.com/events/details/2014-a-concert-in-the-park-05-12-2014-1374
END:VEVENT

END:VCALENDAR
