BEGIN:VCALENDAR
VERSION:2.0
PRODID:-//ChamberMaster//Event Calendar 2.0//EN
METHOD:PUBLISH
X-PUBLISHED-TTL:P3D
REFRESH-INTERVAL:P3D
CALSCALE:GREGORIAN
BEGIN:VEVENT
DTSTART:20140724T130000Z
DTEND:20140724T220000Z
X-MICROSOFT-CDO-ALLDAYEVENT:FALSE
SUMMARY:2014 50th Anniversary of the Civil Rights Act of 1964
DESCRIPTION:The Oklahoma Attorney General's newly formed Office of Civil Rights Enforcement (OCRE) is hosting a special educational event July 24\, 2014 in celebration of the 50th Anniversary of the Civil Rights Act of 1964.  A goal of the event is to promote civil rights by educating employers on best practices for complying with employment-related civil rights legal obligations.\n\n\n\nThe event is FREE and will be live-streamed on the internet at:  http://new.livestream.com/TulsaLiveEvents/OKAG
X-ALT-DESC;FMTTYPE=text/html:<span style="font-family:arial\,sans-serif\;"><span style="font-size:10.0pt\;">The Oklahoma Attorney General&#39\;s newly formed Office of Civil Rights Enforcement (OCRE) is hosting a special educational event July 24\, 2014 in celebration of the 50th Anniversary of the Civil Rights Act of 1964. &nbsp\;A goal of the event is to promote civil rights by educating employers on best practices for complying with employment-related civil rights legal obligations.</span></span><br />\n<br />\n<span style="font-family:arial\,sans-serif\;"><span style="font-size:10.0pt\;">The event is FREE and will be live-streamed on the internet at: &nbsp\;</span></span><span style="font-family:times new roman\,serif\;"><span style="font-size:12.0pt\;"><a href="http://new.livestream.com/TulsaLiveEvents/OKAG"><span style="font-family:arial\,sans-serif\;"><span style="font-size:10.0pt\;">http://new.livestream.com/TulsaLiveEvents/OKAG</span></span></a></span></span>
LOCATION:http://new.livestream.com/TulsaLiveEvents/OKAG
UID:e.1611.1375
SEQUENCE:3
DTSTAMP:20260420T184508Z
URL:https://portal.bixbychamber.com/events/details/2014-50th-anniversary-of-the-civil-rights-act-of-1964-07-24-2014-1375
END:VEVENT

END:VCALENDAR
