BEGIN:VCALENDAR
VERSION:2.0
PRODID:-//ChamberMaster//Event Calendar 2.0//EN
METHOD:PUBLISH
X-PUBLISHED-TTL:P3D
REFRESH-INTERVAL:P3D
CALSCALE:GREGORIAN
BEGIN:VEVENT
DTSTART:20130815T163000Z
DTEND:20130815T183000Z
X-MICROSOFT-CDO-ALLDAYEVENT:FALSE
SUMMARY:2013 Workers' Compensation Success Seminar
DESCRIPTION:Building a New Workers' Comp Solution for You\n\n \n\nThis was an incredible year for business at the state Capitol. The State Chamber helped usher in one of the most pro-business legislative sessions in our state's history\, including landmark workers' compensation reform. The state Legislature passed sweeping changes to Oklahoma's workers' compensation system.  These changes can save your company thousands of dollars-but only if you know how to maximize your opportunity.\n\n \n\nCoupled with reform\, the State Chamber of Oklahoma has endorsed a new approach to workers' compensation insurance that will allow you to regain control of your workers' compensation costs and take full advantage of the changes that are coming. ChamberSMART  presents solutions to six key elements that help lower your work comp costs.\n\n \n\nYou are invited to attend one of our Workers' Compensation Success Seminars and learn from our experts as we give you 'A Blueprint for a New Oklahoma' explaining what these changes mean for you and how you can lower your workers' comp bill.\n\n \n\nPlease plan on attending one of these valuable seminars-your bottom line depends on it.\n\n \n\nClick here to register.
X-ALT-DESC;FMTTYPE=text/html:<span style="font-size:12px\;"><span style="font-family:arial\;"><strong><span style="color:black\;">Building a New Workers&#39\; Comp Solution for You</span></strong><br />\n&nbsp\;<br />\n<span style="color:black\;">This was an incredible year for business at the state Capitol. The State Chamber helped usher in one of the most pro-business legislative sessions in our state&#39\;s history\, including landmark workers&#39\; compensation reform. The state Legislature passed sweeping changes to Oklahoma&#39\;s workers&#39\; compensation system.&nbsp\; <strong>These changes can save your company thousands of dollars-but only if you know how to maximize your opportunity.</strong></span><br />\n&nbsp\;<br />\n<span style="color:black\;">Coupled with reform\, the State Chamber of Oklahoma has endorsed a new approach to workers&#39\; compensation insurance that will allow you to regain control of your workers&#39\; compensation costs and take full advantage of the changes that are coming. ChamberSMART&trade\; presents solutions to six key elements that help lower your work comp costs.</span><br />\n&nbsp\;<br />\n<span style="color:black\;">You are invited to attend one of our Workers&#39\; Compensation Success Seminars and learn from our experts as we give you &#39\;A Blueprint for a New Oklahoma&#39\; explaining what these changes mean for you and how you can lower your workers&#39\; comp bill.</span><br />\n&nbsp\;<br />\n<strong><span style="color:black\;">Please plan on attending one of these valuable seminars-your bottom line depends on it.</span></strong><br />\n&nbsp\;<br />\n<span style="color:black\;">Click </span><a href="http://r20.rs6.net/tn.jsp?e=001t0ZJO1OX0nUxeH8KdJMrkfVQuzMGKAW145c3603K1M-oawSTHaw0T_-ZhOQ4gMzMLvsqeaYuR9PZcHGBbr92v2zltyZQfCcBSDVtngqLYMb9KpigEPFgepmJVHZEVbkpKdYc6q8hXu0kysDSTqmK3dQmFVUIDW5GGzkcmVu01I5DEG4shyRnS00ZT5-Kpn3m" target="_blank">here</a><span style="color:black\;"> to register.&nbsp\;</span></span></span>
LOCATION:Tulsa
UID:e.1611.665
SEQUENCE:3
DTSTAMP:20260421T101745Z
URL:https://portal.bixbychamber.com/events/details/2013-workers-compensation-success-seminar-08-15-2013-665
END:VEVENT

END:VCALENDAR
