BEGIN:VCALENDAR
VERSION:2.0
PRODID:-//ChamberMaster//Event Calendar 2.0//EN
METHOD:PUBLISH
X-PUBLISHED-TTL:P3D
REFRESH-INTERVAL:P3D
CALSCALE:GREGORIAN
BEGIN:VEVENT
DTSTART:20131023T160000Z
DTEND:20131023T200000Z
X-MICROSOFT-CDO-ALLDAYEVENT:FALSE
SUMMARY:2013 Western Associates Customer Showcase - Open House
DESCRIPTION:Western will have some of thier favorite suppliers\, displaying their newest promotional items and Neat Stuff to promote your business. Great opportunity to see and touch samples and wearables.
X-ALT-DESC;FMTTYPE=text/html:Western will have some of thier favorite suppliers\, displaying their newest promotional items and Neat Stuff to promote your business. Great opportunity to see and touch samples and wearables.
LOCATION:6218 S. Lewis suite 120 - Tulsa\, OK 74136
UID:e.1611.1238
SEQUENCE:3
DTSTAMP:20260421T074945Z
URL:https://portal.bixbychamber.com/events/details/2013-western-associates-customer-showcase-open-house-10-23-2013-1238
END:VEVENT

END:VCALENDAR
