BEGIN:VCALENDAR
VERSION:2.0
PRODID:-//ChamberMaster//Event Calendar 2.0//EN
METHOD:PUBLISH
X-PUBLISHED-TTL:P3D
REFRESH-INTERVAL:P3D
CALSCALE:GREGORIAN
BEGIN:VEVENT
DTSTART:20131106T223000Z
DTEND:20131106T230000Z
X-MICROSOFT-CDO-ALLDAYEVENT:FALSE
SUMMARY:2013 WellQuest Medical & Wellness Ribbon Cutting
DESCRIPTION:WellQuest Medical & Wellness Ribbon Cutting and Tour
X-ALT-DESC;FMTTYPE=text/html:WellQuest Medical &amp\; Wellness Ribbon Cutting and Tour
LOCATION:8005 East 106th Street Tulsa\, OK 74133
UID:e.1611.1239
SEQUENCE:3
DTSTAMP:20260421T050806Z
URL:https://portal.bixbychamber.com/events/details/2013-wellquest-medical-wellness-ribbon-cutting-11-06-2013-1239
END:VEVENT

END:VCALENDAR
