BEGIN:VCALENDAR
VERSION:2.0
PRODID:-//ChamberMaster//Event Calendar 2.0//EN
METHOD:PUBLISH
X-PUBLISHED-TTL:P3D
REFRESH-INTERVAL:P3D
CALSCALE:GREGORIAN
BEGIN:VEVENT
DTSTART:20131204T131500Z
DTEND:20131204T143000Z
X-MICROSOFT-CDO-ALLDAYEVENT:FALSE
SUMMARY:2013 Visitor's Day - Open Networking
DESCRIPTION:Lots of door prizes and a free book for attending this NEW business networking group on December 4th for their Visitor's Day. Only 15 seats open. You MUST RSVP.  Breakfast is $5 per guest
X-ALT-DESC;FMTTYPE=text/html:Lots of door prizes and a free book for attending this NEW business networking group on December 4th for their Visitor&#39\;s Day. Only 15 seats open. You MUST RSVP.&nbsp\; Breakfast is $5 per guest
LOCATION:First Watch Restaurant 68th & Memorial\, Tulsa
UID:e.1611.1248
SEQUENCE:3
DTSTAMP:20260421T033523Z
URL:https://portal.bixbychamber.com/events/details/2013-visitor-s-day-open-networking-12-04-2013-1248
END:VEVENT

END:VCALENDAR
