BEGIN:VCALENDAR
VERSION:2.0
PRODID:-//ChamberMaster//Event Calendar 2.0//EN
METHOD:PUBLISH
X-PUBLISHED-TTL:P3D
REFRESH-INTERVAL:P3D
CALSCALE:GREGORIAN
BEGIN:VEVENT
DTSTART:20130518T130000Z
DTEND:20130518T160000Z
X-MICROSOFT-CDO-ALLDAYEVENT:FALSE
SUMMARY:2013 Veteran's Appreciation Day 2013 Pancake Breakfast
DESCRIPTION:Pancake Breakfast with all the fixings free to Veterans and their families. Hosted by the Blue Star Mothers of Oklahoma Chapter 10 in appreciation for all Veterans and their families.
X-ALT-DESC;FMTTYPE=text/html:Pancake Breakfast with all the fixings free to Veterans and their families. Hosted by the Blue Star Mothers of Oklahoma Chapter 10 in appreciation for all Veterans and their families.
LOCATION:Presbyterian Church at 4th and Lee in Sapulpa Ok
UID:e.1611.625
SEQUENCE:3
DTSTAMP:20260421T130413Z
URL:https://portal.bixbychamber.com/events/details/2013-veteran-s-appreciation-day-2013-pancake-breakfast-05-18-2013-625
END:VEVENT

END:VCALENDAR
