BEGIN:VCALENDAR
VERSION:2.0
PRODID:-//ChamberMaster//Event Calendar 2.0//EN
METHOD:PUBLISH
X-PUBLISHED-TTL:P3D
REFRESH-INTERVAL:P3D
CALSCALE:GREGORIAN
BEGIN:VEVENT
DTSTART;VALUE=DATE:20130513
DTEND;VALUE=DATE:20130514
TRANSP:TRANSPARENT
X-MICROSOFT-CDO-ALLDAYEVENT:TRUE
SUMMARY:2013 US Cellular Bixby Store Opening
DESCRIPTION:The new U.S. Cellular store\, located on the corner of 101st & Memorial\, is now open!  Come by to get amazing deals for both business and personal mobile phones. With incredible pricing offers on the new Samsung Galaxy S4\, it is a perfect time to come by and say hello to your newest Bixby business.
X-ALT-DESC;FMTTYPE=text/html:<p><span style="font-size:10.0pt\;font-family:&quot\;Arial&quot\;\,&quot\;sans-serif&quot\;">The new U.S. Cellular store\, located on the corner of 101st &amp\; Memorial\, is now open!&nbsp\; Come by to get amazing deals for both business and personal mobile phones. With incredible pricing offers on the new Samsung Galaxy S4\, it is a perfect time to come by and say hello to your newest Bixby business.</span><o:p></o:p></p>\n
LOCATION:101st and Memorial Bixby\, OK 74008
UID:e.1611.640
SEQUENCE:3
DTSTAMP:20260421T130213Z
URL:https://portal.bixbychamber.com/events/details/2013-us-cellular-bixby-store-opening-05-13-2013-640
END:VEVENT

END:VCALENDAR
