BEGIN:VCALENDAR
VERSION:2.0
PRODID:-//ChamberMaster//Event Calendar 2.0//EN
METHOD:PUBLISH
X-PUBLISHED-TTL:P3D
REFRESH-INTERVAL:P3D
CALSCALE:GREGORIAN
BEGIN:VEVENT
DTSTART:20130910T223000Z
DTEND:20130910T233000Z
X-MICROSOFT-CDO-ALLDAYEVENT:FALSE
SUMMARY:2013 TYPros Connect: YP Networking Event
DESCRIPTION:Join the Business Development Crew for the second YP networking event of the year. This is an opportunity to make business contacts\, meet your newest brain-trust and find inter-industry connections to help you grow professionally.\n\n\nThe event is free to attend and includes light appetizers. Be sure to bring plenty of business cards\, memorize your one-minute elevator pitch\, and be ready to make lots of great first impressions with a wide variety of young professionals.\n\nWe will also be working with the BA chamber to help us spread the word there. It would be great to have representation regionally at this event.
X-ALT-DESC;FMTTYPE=text/html:<h3><span style="color: rgb(80\, 80\, 80)\; font-family: arial\; font-size: 12px\;">Join the Business Development Crew for the second YP networking event of the year. This is an opportunity to make business contacts\, meet your newest brain-trust and find inter-industry connections to help you grow professionally.</span></h3>\n<br />\n<span style="font-size:12px\;"><span style="font-family:arial\;"><span style="color:#505050\;">The event is free to attend and includes light appetizers. Be sure to bring plenty of business cards\, memorize your one-minute elevator pitch\, and be ready to make lots of great first impressions with a wide variety of young professionals.</span><br />\nWe will also be working with the BA chamber to help us spread the word there. It would be great to have representation regionally at this event.&nbsp\;</span></span>
LOCATION:Infuzion | 9999 S. Mingo Rd.
UID:e.1611.686
SEQUENCE:3
DTSTAMP:20260421T074633Z
URL:https://portal.bixbychamber.com/events/details/2013-typros-connect-yp-networking-event-09-10-2013-686
END:VEVENT

END:VCALENDAR
