BEGIN:VCALENDAR
VERSION:2.0
PRODID:-//ChamberMaster//Event Calendar 2.0//EN
METHOD:PUBLISH
X-PUBLISHED-TTL:P3D
REFRESH-INTERVAL:P3D
CALSCALE:GREGORIAN
BEGIN:VEVENT
DTSTART:20130117T223000Z
DTEND:20130117T230000Z
X-MICROSOFT-CDO-ALLDAYEVENT:FALSE
SUMMARY:2013 Two Part Liquors Ribbon Cutting
DESCRIPTION:
X-ALT-DESC;FMTTYPE=text/html:
LOCATION:13161 South Memorial Dr. Suite H Bixby\, OK 74008
UID:e.1611.340
SEQUENCE:3
DTSTAMP:20260421T181009Z
URL:https://portal.bixbychamber.com/events/details/2013-two-part-liquors-ribbon-cutting-01-17-2013-340
END:VEVENT

END:VCALENDAR
