BEGIN:VCALENDAR
VERSION:2.0
PRODID:-//ChamberMaster//Event Calendar 2.0//EN
METHOD:PUBLISH
X-PUBLISHED-TTL:P3D
REFRESH-INTERVAL:P3D
CALSCALE:GREGORIAN
BEGIN:VEVENT
DTSTART:20130829T220000Z
DTEND:20130830T010000Z
X-MICROSOFT-CDO-ALLDAYEVENT:FALSE
SUMMARY:2013 Turn Bixby Pink: Schlotzsky's Goes Pink
DESCRIPTION:Dine and Donate to Help Support Turn Bixby Pink\n\n\n\nIn a hurry?\n\nPrint this flyer and give it to yoru drive-thru attendant.
X-ALT-DESC;FMTTYPE=text/html:Dine and Donate to Help Support Turn Bixby Pink<br />\n<br />\nIn a hurry?<br />\nPrint this flyer and give it to yoru drive-thru attendant.
LOCATION:Schlotzsky's 10205 South Memorial Drive
UID:e.1611.687
SEQUENCE:3
DTSTAMP:20260421T090918Z
URL:https://portal.bixbychamber.com/events/details/2013-turn-bixby-pink-schlotzsky-s-goes-pink-08-29-2013-687
END:VEVENT

END:VCALENDAR
