BEGIN:VCALENDAR
VERSION:2.0
PRODID:-//ChamberMaster//Event Calendar 2.0//EN
METHOD:PUBLISH
X-PUBLISHED-TTL:P3D
REFRESH-INTERVAL:P3D
CALSCALE:GREGORIAN
BEGIN:VEVENT
DTSTART:20131025T130000Z
DTEND:20131025T170000Z
X-MICROSOFT-CDO-ALLDAYEVENT:FALSE
SUMMARY:2013 Tulsa Small Business & Leadership Workshop
DESCRIPTION:Many business owners\, entrepreneurs\, managers and career professionals want to improve their leadership skills\, become better at communicating and building relationships within their respective organizations\, and find ways to enhance the company's bottom line.\n\n\n\nOn Friday\, October 25th\, Nathan Mitchell\, Founder of Clutch Consulting\, will be hosting a "Small Business and Leadership Workshop" in South Tulsa\, which will help business owners\, entrepreneurs and other business professionals\, overcome their business and leadership challenges!\n\n\n\nThis 4-hour event will be loaded with content that will help attendees transform their organizations\, empower their teams\, and offer a level of service that will knock their customers socks off!\n\n\n\nNathan will be covering the following topics:\n\n	Leading with Purpose: Empowering Strategies to Transform Your Organization\n	Leading with Communication: Empowering Strategies for Improving Workplace Relationships\, and\n	Leading with Service: Empowering Strategies for Turning Customers into Loyal Advocates\n\nThose who decide to attend the workshop can expect to learn how to increase business growth and revenue\, experience improved relationships and increased productivity by members of their teams\, and learn how to differentiate themselves from the competition by offering extraordinary service.\n\n\n\nIn an effort to maximize workshop interaction\, and to ensure each participant will receive the most from the workshop\, the number of registrations has been limited to only twenty-five people.\n\n\n\nEach person who registers by end of day on October 15th will receive:\n\n\n\nSpecial Bonus #1: Complimentary copies of Nathan's latest books "Leading With Purpose\," and "Leading With Service" (A $30 Value)\n\nSpecial Bonus #2: A complimentary online assessment that offers invaluable insight into how a person behaves and communicates\, so they can better manage\, lead and motivate others in their organization. (A $100 Value)\n\n\n\nTo secure your seat for the "Tulsa Small Business and Leadership Workshop" visit www.ClutchConsulting.info
X-ALT-DESC;FMTTYPE=text/html:Many business owners\, entrepreneurs\, managers and career professionals want to improve their leadership skills\, become better at communicating and building relationships within their respective organizations\, and find ways to enhance the company&rsquo\;s bottom line.<br />\n<br />\nOn Friday\, October 25th\, Nathan Mitchell\, Founder of Clutch Consulting\, will be hosting a &quot\;Small Business and Leadership Workshop&quot\; in South Tulsa\, which will help business owners\, entrepreneurs and other business professionals\, overcome their business and leadership challenges!<br />\n<br />\nThis 4-hour event will be loaded with content that will help attendees transform their organizations\, empower their teams\, and offer a level of service that will knock their customers socks off!<br />\n<br />\nNathan will be covering the following topics:\n<ul>\n	<li>Leading with Purpose: Empowering Strategies to Transform Your Organization</li>\n	<li>Leading with Communication: Empowering Strategies for Improving Workplace Relationships\, and</li>\n	<li>Leading with Service: Empowering Strategies for Turning Customers into Loyal Advocates</li>\n</ul>\nThose who decide to attend the workshop can expect to learn how to increase business growth and revenue\, experience improved relationships and increased productivity by members of their teams\, and learn how to differentiate themselves from the competition by offering extraordinary service.<br />\n<br />\nIn an effort to maximize workshop interaction\, and to ensure each participant will receive the most from the workshop\, the number of registrations has been limited to only twenty-five people.<br />\n<br />\n<strong>Each person who registers by end of day on October 15th will receive:</strong><br />\n<br />\n<strong><span style="color:#ff0000\;">Special Bonus #1:</span></strong> Complimentary copies of Nathan&rsquo\;s latest books &ldquo\;Leading With Purpose\,&rdquo\; and &ldquo\;Leading With Service&rdquo\; (A $30 Value)<br />\n<strong><span style="color:#ff0000\;">Special Bonus #2:</span></strong> A complimentary online assessment that offers invaluable insight into how a person behaves and communicates\, so they can better manage\, lead and motivate others in their organization. (A $100 Value)<br />\n<br />\n<strong>To secure your seat for the &ldquo\;Tulsa Small Business and Leadership Workshop&rdquo\; visit www.ClutchConsulting.info</strong>
LOCATION:Hilton Garden Inn - Tulsa South
UID:e.1611.696
SEQUENCE:3
DTSTAMP:20260421T063940Z
URL:https://portal.bixbychamber.com/events/details/2013-tulsa-small-business-leadership-workshop-10-25-2013-696
END:VEVENT

END:VCALENDAR
