BEGIN:VCALENDAR
VERSION:2.0
PRODID:-//ChamberMaster//Event Calendar 2.0//EN
METHOD:PUBLISH
X-PUBLISHED-TTL:P3D
REFRESH-INTERVAL:P3D
CALSCALE:GREGORIAN
BEGIN:VEVENT
DTSTART;VALUE=DATE:20130427
DTEND;VALUE=DATE:20130429
TRANSP:TRANSPARENT
X-MICROSOFT-CDO-ALLDAYEVENT:TRUE
SUMMARY:2013 Tulsa RV Ranch Challenge & Wounded Warrior Project benefit
DESCRIPTION:April 27th - \n\nACwA Chuck wagon Races  -   10:00am - Live Band after race \n\nInternational Chili Society Chili Cook-Off  -  11:00am\n\nPony Rides for Kid  12:00pm\n\nHorseback Riding Trail Rides  1:00pm\n\nPro Rodeo    8:00pm \n\nAfter Rodeo Party with Live Band in the Saloon\n\n                                                                                                      \n\n \n\n    April 28th - ACwA Chuck wagon Race  -  10:00am\n\n  \n\nThe amenities we have on site: \n\n90 RV spaces with full hook-ups\n\nSeating for 4\,000 at the arena \n\nFamily-Style Restaurant \n\nCovered Arena \n\nGeneral Store \n\n3/4 mile horse track\n\nCreek Nation Casino Duck Creek is next door
X-ALT-DESC;FMTTYPE=text/html:<span style="font-family:arial\,sans-serif\;">&nbsp\; &nbsp\;<strong>April 27th -</strong>&nbsp\;<br />\nACwA Chuck wagon Races &nbsp\;- &nbsp\; 10:00am - Live Band after race</span>&nbsp\;<br />\n<span style="font-family:arial\,sans-serif\;">International Chili Society Chili Cook-Off&nbsp\; -&nbsp\; 11:00am</span><br />\n<span style="font-family:arial\,sans-serif\;">Pony Rides for Kid &nbsp\;12:00pm</span><br />\n<span style="font-family:arial\,sans-serif\;">Horseback Riding Trail Rides &nbsp\;1:00pm</span><br />\n<span style="font-family:arial\,sans-serif\;">Pro Rodeo &nbsp\; &nbsp\;8:00pm&nbsp\;</span><br />\n<span style="font-family:arial\,sans-serif\;">After Rodeo Party with Live Band in the Saloon</span><br />\n&nbsp\; &nbsp\; &nbsp\; &nbsp\; &nbsp\; &nbsp\; &nbsp\; &nbsp\; &nbsp\; &nbsp\; &nbsp\; &nbsp\; &nbsp\; &nbsp\; &nbsp\; &nbsp\; &nbsp\; &nbsp\; &nbsp\; &nbsp\; &nbsp\; &nbsp\; &nbsp\; &nbsp\; &nbsp\; &nbsp\; &nbsp\; &nbsp\; &nbsp\; &nbsp\; &nbsp\; &nbsp\; &nbsp\; &nbsp\; &nbsp\; &nbsp\; &nbsp\; &nbsp\; &nbsp\; &nbsp\; &nbsp\; &nbsp\; &nbsp\; &nbsp\; &nbsp\; &nbsp\; &nbsp\; &nbsp\; &nbsp\; &nbsp\; &nbsp\;&nbsp\;<br />\n&nbsp\;<br />\n<span style="font-family:arial\,sans-serif\;">&nbsp\; &nbsp\;<strong>&nbsp\;April 28th -</strong>&nbsp\;ACwA Chuck wagon Race &nbsp\;- &nbsp\;10:00am</span><br />\n&nbsp\;&nbsp\;<br />\n<em><span style="font-family:arial\,sans-serif\;"><span style="font-size:10.0pt\;">The amenities we have on site:&nbsp\;</span></span></em><br />\n<em><span style="font-family:arial\,sans-serif\;"><span style="font-size:10.0pt\;">90 RV spaces with full hook-ups</span></span></em><br />\n<em><span style="font-family:arial\,sans-serif\;"><span style="font-size:10.0pt\;">Seating for 4\,000 at the arena&nbsp\;</span></span></em><br />\n<em><span style="font-family:arial\,sans-serif\;"><span style="font-size:10.0pt\;">Family-Style Restaurant&nbsp\;</span></span></em><br />\n<em><span style="font-family:arial\,sans-serif\;"><span style="font-size:10.0pt\;">Covered Arena&nbsp\;</span></span></em><br />\n<em><span style="font-family:arial\,sans-serif\;"><span style="font-size:10.0pt\;">General Store&nbsp\;</span></span></em><br />\n<em><span style="font-family:arial\,sans-serif\;"><span style="font-size:10.0pt\;">3/4 mile horse track</span></span></em><br />\n<em><span style="font-family:arial\,sans-serif\;"><span style="font-size:10.0pt\;">Creek Nation Casino Duck Creek is next door</span></span></em><br />\n&nbsp\;<br />\n&nbsp\;
LOCATION:Tulsa RV Ranch Rodeo - Arena 2548 Hwy 75 Beggs\, OK 74421 Office: 918-267-7569 www.tulsarvranch.com Facebook: Tulsa RV Ranch Rodeo Phone App: Tulsa RV Ranch Rodeo
UID:e.1611.347
SEQUENCE:3
DTSTAMP:20260421T151815Z
URL:https://portal.bixbychamber.com/events/details/2013-tulsa-rv-ranch-challenge-wounded-warrior-project-benefit-04-27-2013-347
END:VEVENT

END:VCALENDAR
