BEGIN:VCALENDAR
VERSION:2.0
PRODID:-//ChamberMaster//Event Calendar 2.0//EN
METHOD:PUBLISH
X-PUBLISHED-TTL:P3D
REFRESH-INTERVAL:P3D
CALSCALE:GREGORIAN
BEGIN:VEVENT
DTSTART:20130914T140000Z
DTEND:20130914T210000Z
X-MICROSOFT-CDO-ALLDAYEVENT:FALSE
SUMMARY:2013 Tulsa Area United Way Craft Show
DESCRIPTION:Tulsa County Parks and BOCC are hosting a craft show to benefit Tulsa Area United Way. Show will be held at Chandler Park Community Center\, 6500 West 21st Street\, Tulsa\, OK\, 74107 on 9/14/2013\, Saturday\, from 9:00 am - 4:00 pm.
X-ALT-DESC;FMTTYPE=text/html:Tulsa County Parks and BOCC are hosting a craft show to benefit Tulsa Area United Way. Show will be held at Chandler Park Community Center\, 6500 West 21st Street\, Tulsa\, OK\, 74107 on 9/14/2013\, Saturday\, from 9:00 am - 4:00 pm.
LOCATION:Chandler Park Community Center\, 6500 West 21st Street\, Tulsa\, OK \, 74107
UID:e.1611.677
SEQUENCE:3
DTSTAMP:20260421T075052Z
URL:https://portal.bixbychamber.com/events/details/2013-tulsa-area-united-way-craft-show-09-14-2013-677
END:VEVENT

END:VCALENDAR
