BEGIN:VCALENDAR
VERSION:2.0
PRODID:-//ChamberMaster//Event Calendar 2.0//EN
METHOD:PUBLISH
X-PUBLISHED-TTL:P3D
REFRESH-INTERVAL:P3D
CALSCALE:GREGORIAN
BEGIN:VEVENT
DTSTART:20131031T220000Z
DTEND:20131101T010000Z
X-MICROSOFT-CDO-ALLDAYEVENT:FALSE
SUMMARY:2013 Trunk or Treat
DESCRIPTION:
X-ALT-DESC;FMTTYPE=text/html:
LOCATION:First Baptist Church 114 East Breckenridge Bixby\, OK 74008
UID:e.1611.1240
SEQUENCE:3
DTSTAMP:20260421T063837Z
URL:https://portal.bixbychamber.com/events/details/2013-trunk-or-treat-10-31-2013-1240
END:VEVENT

END:VCALENDAR
