BEGIN:VCALENDAR
VERSION:2.0
PRODID:-//ChamberMaster//Event Calendar 2.0//EN
METHOD:PUBLISH
X-PUBLISHED-TTL:P3D
REFRESH-INTERVAL:P3D
CALSCALE:GREGORIAN
BEGIN:VEVENT
DTSTART:20131005T140000Z
DTEND:20131005T200000Z
X-MICROSOFT-CDO-ALLDAYEVENT:FALSE
SUMMARY:2013 Toy Train Show
DESCRIPTION:Toy train show with layouts and trains to buy\, sell\, or trade.
X-ALT-DESC;FMTTYPE=text/html:Toy train show with layouts and trains to buy\, sell\, or trade.
LOCATION:Bixby Community Center\, 211 N. Cabaniss
UID:e.1611.683
SEQUENCE:3
DTSTAMP:20260421T074633Z
URL:https://portal.bixbychamber.com/events/details/2013-toy-train-show-10-05-2013-683
END:VEVENT

END:VCALENDAR
