BEGIN:VCALENDAR
VERSION:2.0
PRODID:-//ChamberMaster//Event Calendar 2.0//EN
METHOD:PUBLISH
X-PUBLISHED-TTL:P3D
REFRESH-INTERVAL:P3D
CALSCALE:GREGORIAN
BEGIN:VEVENT
DTSTART:20130406T140000Z
DTEND:20130406T200000Z
X-MICROSOFT-CDO-ALLDAYEVENT:FALSE
SUMMARY:2013 Toy Train Show
DESCRIPTION:Model toy trains to buy\, sell\, and trade will be throughout the center with several operating train layouts set up.
X-ALT-DESC;FMTTYPE=text/html:Model toy trains to buy\, sell\, and trade will be throughout the center with several operating train layouts set up.
LOCATION:Bixby Community Center 211 N. Cabaniss\, Bixby\, Okla
UID:e.1611.339
SEQUENCE:3
DTSTAMP:20260421T152723Z
URL:https://portal.bixbychamber.com/events/details/2013-toy-train-show-04-06-2013-339
END:VEVENT

END:VCALENDAR
